BEGIN:VCALENDAR
VERSION:2.0
PRODID:-//wp-events-plugin.com//7.2.3.1//EN
TZID:Europe/Berlin
X-WR-TIMEZONE:Europe/Berlin
BEGIN:VEVENT
UID:2852@frauenportal.koeln
DTSTART;TZID=Europe/Berlin:20200920T110000
DTEND;TZID=Europe/Berlin:20200920T180000
DTSTAMP:20210211T094104Z
URL:https://frauenportal.koeln/veranstaltungen/vernissage-maskenball-fraue
 n-in-corona-zeiten/
SUMMARY:Vernissage: „Maskenball – Frauen in Corona-Zeiten“
DESCRIPTION:Ein Fest\, eine Vernissage – zwischen Drama\, Tragödie\, Hof
 fnung und Kunst.\n\nAufgrund der aktuellen Situation wird die Vernissage u
 nterteilt. Die Einführung wird es zweimal geben\, Redebeiträge von UN-Wo
 men und CARE werden über den Tag verteilt. \nZusätzlich führen Künstle
 r*innen zeitversetzt durch die Ausstellung.\nFür das leibliche Wohl ist g
 esorgt.\nWir feiern\, aber vorsichtig.\n\nParallel zur Eröffnung von „M
 askenball – Frauen in Corona-Zeiten“ ist auch die Ausstellung „Eleon
 ore\, Emilie\, Elise – Beethoven und die Frage nach den Frauen“ für B
 esucher*innen zugänglich.\n\nInhalt der Ausstellung:\n\nEs sind vor allen
  die Frauen\, die unsere Gesellschaft in der COVID19-Krise am Leben halten
 \, die aber verstärkt unter den Folgen\nleiden. Sie leisten deutlich mehr
  unbezahlte Care-Arbeit und arbeiten mehr als Männer in unsicheren oder s
 chlecht bezahlten Berufen. Während des Lockdowns arbeiteten deutlich mehr
  Mütter als Väter im Home-Office und betreuten gleichzeitig ihre Kinder.
  In allen Gesellschaftskreisen sind Frauen durch die Ausgangssperren verme
 hrt von Gewalt durch Männer in ihrem Umfeld betroffen. Ein Blick auf ande
 re Kontinente zeigt\, dass Mädchen in Krisen häufiger die Schule abbrech
 en als Jungen. Damit sind sie Armut und einem erhöhten Risiko sexueller A
 usbeutung\, ungewollter Schwangerschaft sowie Früh- und Zwangsheirat ausg
 esetzt. Doch Frauen sind nicht nur Opfer. Weltweit gibt es Initiativen\, i
 n denen sie sich für medizinische Fürsorge\, soziale Unterstützung oder
  gegen den „Corona-Rassismus“ engagieren.\nEin vergleichender Blick au
 f 1918 verdeutlicht die Belastungen und Auswirkungen auch der Spanischen G
 rippe Ende des Ersten Weltkriegs\, die weitgehend verschwiegen wurde.\n\nD
 auer der Ausstellung:\n20.09.2020 – 22.12.2020\n\nVeranstalterin:\nFraue
 nmuseum\n\nAnsprechpartnerin:\nPetra Peter-Friedrichs\, Tel: 0228/ 691344\
 , E-Mail: petra.peter-friedrichs@frauenmuseum.de\n&nbsp\;\nKosten / Anmeld
 ung:\nEintritt frei\, um Voranmeldungen wird gebeten. Bitte vergessen Sie 
 nicht Ihre allerschönste Maske zu tragen.\n\nVeranstaltungsort:\nFrauenmu
 seum\, Im Krausfeld 10\, 53111 Bonn\, [map id=904]
END:VEVENT
BEGIN:VTIMEZONE
TZID:Europe/Berlin
X-LIC-LOCATION:Europe/Berlin
BEGIN:DAYLIGHT
DTSTART:20200329T030000
TZOFFSETFROM:+0100
TZOFFSETTO:+0200
TZNAME:CEST
END:DAYLIGHT
END:VTIMEZONE
END:VCALENDAR