BEGIN:VCALENDAR
VERSION:2.0
PRODID:-//wp-events-plugin.com//7.2.3.1//EN
TZID:Europe/Berlin
X-WR-TIMEZONE:Europe/Berlin
BEGIN:VEVENT
UID:1904@frauenportal.koeln
DTSTART;TZID=Europe/Berlin:20190526T150000
DTEND;TZID=Europe/Berlin:20190526T190000
DTSTAMP:20190930T192800Z
URL:https://frauenportal.koeln/veranstaltungen/vernissage-mutige-frauen-mu
 tige-taten/
SUMMARY:Vernissage: Mutige Frauen - mutige Taten
DESCRIPTION:- Ausstellung mit Fotografien von Ayşe Taşcı und Biographien
  10 kenianischer Frauen von Sue Winter -\n\nDie Fotoausstellung von Marie 
 e.V. zeigt 10 mutige Frauen aus der kenianischen Diaspora. Sie wurden von 
 der Fotografin Ayşe Taşcı portraitiert und Sue Winter hat die Serie mit
  Biographien ergänzt\, um Ihnen das Leben der Frauen in Kenia und Deutsch
 land näherzubringen.\n\nIm Verein Marie e.V. engagieren sich diese Frauen
 \, um sowohl in Deutschland\, als auch in Kenia nachhaltige Projekte zu Ve
 rbesserungen der Lebenswirklichkeit zu erreichen. Während in Kenia der Au
 fbau einer Schule und die Unterstützung einer katholischen Gemeinde im Fo
 kus stehen\, ist der Schwerpunkt in Deutschland die Bildungs- und Netzwerk
 arbeit in der Region Köln. Viele der Mitglieder leben auch in anderen deu
 tschen Städten.\n\nDie Ausstellung wird am 26. Mai 2019 zwischen 15-19 Uh
 r in den Räumen der Salvator Kirche in Köln-Weidenpech zu sehen sein. Es
  ist geplant sie an weiteren Orten in NRW zu zeigen. Nach der Begrüßung 
 wird es eine musikalische Begleitung und kenianisches Fingerfood geben.\n\
 nHier ist die Einladung: Mutige Frauen - mutige Taten (pdf-Datei\, 771 KB)
 \n\nVeranstalterin:\nMarie e.V.\, www.marie-ev.de\n\nAnsprechpartnerin:\nM
 ary Billeb\, Tel.: 0221 / 760 45 49 \, E-Mail: Marybilleb1234@gmail.co\n\n
 Veranstaltungsort:\nSalvator Kirche\, Schlesischer Platz 2a\, 50737 Köln\
 , [map id=14338]
END:VEVENT
BEGIN:VTIMEZONE
TZID:Europe/Berlin
X-LIC-LOCATION:Europe/Berlin
BEGIN:DAYLIGHT
DTSTART:20190331T030000
TZOFFSETFROM:+0100
TZOFFSETTO:+0200
TZNAME:CEST
END:DAYLIGHT
END:VTIMEZONE
END:VCALENDAR