BEGIN:VCALENDAR
VERSION:2.0
PRODID:-//wp-events-plugin.com//7.2.3.1//EN
TZID:Europe/Berlin
X-WR-TIMEZONE:Europe/Berlin
BEGIN:VEVENT
UID:2681@frauenportal.koeln
DTSTART;TZID=Europe/Berlin:20200505T190000
DTEND;TZID=Europe/Berlin:20200505T210000
DTSTAMP:20200501T140059Z
URL:https://frauenportal.koeln/veranstaltungen/virtueller-bpw-clubabend/
SUMMARY:Virtueller BPW Clubabend
DESCRIPTION:Beruf Opernregisseurin. Ein Abend mit der internationalen Opern
 regisseurin Jasmin Solfaghari.\n\nIn ihrem Vortrag beleuchtet Jasmin Solfa
 ghari das Berufsbild der Opernregisseurin\, den Entstehungsprozess einer O
 pernaufführung und Erfahrungen in Führungspositionen an Theatern und in 
 der Lehre.\n \nDie international tätige Opernregisseurin und Hochschulleh
 rerin Jasmin Solfaghari blickt auf eine über 25-jährige Berufserfahrung 
 zurück. In unserer Sitzung stellt das Fördermitglied von BPW Germany\, a
 ls aktive Regisseurin\, Autorin und Coach ihr Berufsbild vor und lädt ans
 chließen zur Diskussionsrunde ein. Mehr unter: www.solfaghari.com\n\nVera
 nstalterinnen:\nBPW Germany Club Köln\n\nAnsprechpartnerin:\nJessica Espi
 noza\, Tel.: 0152 / 36989084\, E-Mail: bpw-koeln@web.de\n\nAnmeldung:\nDie
  Zugangsdaten zum Zoom-Meeting gibt es nach der Anmeldung unter bpw-koeln@
 web.de.\n\nVeranstaltungsort:\nonline
END:VEVENT
BEGIN:VTIMEZONE
TZID:Europe/Berlin
X-LIC-LOCATION:Europe/Berlin
BEGIN:DAYLIGHT
DTSTART:20200329T030000
TZOFFSETFROM:+0100
TZOFFSETTO:+0200
TZNAME:CEST
END:DAYLIGHT
END:VTIMEZONE
END:VCALENDAR