BEGIN:VCALENDAR
VERSION:2.0
PRODID:-//wp-events-plugin.com//7.2.3.1//EN
TZID:Europe/Berlin
X-WR-TIMEZONE:Europe/Berlin
BEGIN:VEVENT
UID:6096@frauenportal.koeln
DTSTART;TZID=Europe/Berlin:20260301T163000
DTEND;TZID=Europe/Berlin:20260301T190000
DTSTAMP:20260204T083142Z
URL:https://frauenportal.koeln/veranstaltungen/vive-la-boheme-hommage-an-d
 ie-20er-jahre-tanztee-mit-allerlei-genuessen/
SUMMARY:Vive la Bohème! Hommage an die 20er Jahre – Tanztee mit allerlei
  Genüssen
DESCRIPTION:Varieté der goldenen 20iger mit Live-Musik\, Geschichten\, Zau
 berei und Kastagnettenspiel.\n\nDas Duo Las Galanas (Pianistin Natascha Ke
 hling und Sängerin Annette Meisl) laden zum unterhaltsamen Konzert mit Li
 edern jener Zeit\, Geschichten über Diven jener Zeit wie Marlene Dietrich
 \, Jospehine Baker etc. und Musik zum Tanzen im Stil der 20er Jahre.\n\nEr
 gänzt wird das kurzweilige Programm von dem Zauberer Markus von Lautern u
 nd dem Kastagnettenspielkünstler Tomas Zybura. \n\nIn der Pause und nach 
 der Vorstellung wird Tanzmusik aufgelegt. \n\nFür den Gaumengenuss reiche
 n wir Sekt und Salzgebäck.\n\nTicket: 25\,00 €\nVVK Kölnticket: www.ko
 elnticket.de/event/vive-la-boheme-20er-jahre-tanztee-inkl-tee-und-toertche
 n-hinterhofsalon-21121110/
END:VEVENT
BEGIN:VTIMEZONE
TZID:Europe/Berlin
X-LIC-LOCATION:Europe/Berlin
BEGIN:STANDARD
DTSTART:20251026T020000
TZOFFSETFROM:+0200
TZOFFSETTO:+0100
TZNAME:CET
END:STANDARD
END:VTIMEZONE
END:VCALENDAR