BEGIN:VCALENDAR
VERSION:2.0
PRODID:-//wp-events-plugin.com//7.2.3.1//EN
TZID:Europe/Berlin
X-WR-TIMEZONE:Europe/Berlin
BEGIN:VEVENT
UID:5726@frauenportal.koeln
DTSTART;TZID=Europe/Berlin:20250913T203000
DTEND;TZID=Europe/Berlin:20250913T235500
DTSTAMP:20250715T101304Z
URL:https://frauenportal.koeln/veranstaltungen/vive-la-boheme/
SUMMARY:Vive la Bohème!
DESCRIPTION:Vive la Bohème! Hommage an die 20er Jahre.\n \nDas Duo Las Gal
 anas lädt mit Gesang\, Klaviermusik\, Geschichten und Tanz zu einem kurzw
 eiligen Abend ein im Stil der 20er Jahre.\nBerlin tanzt auf dem Vulkan! \n
  \nNach dem unterhaltsamen Konzert der Diven kann getanzt werden zu Kläng
 en der 20er-Jahre und Elektroswing!\n \nDresscode ist ein KANN\, aber kein
  MUSS! \n1920er Stil\, Diva\, Galana\, Bohemienne\, Gauner\, Gigolo\, Mafi
 oso...\nAnregungen für die Damenwelt:  Kopfbedeckungen aller Art\, extrav
 agante Gestaltung des Haares\, z.B. einer Wasserwelle und Make-up im passe
 nden Stil: Smokey Eyes und blasser Teint. \nBei "Zeitschätze" oder "Johns
  Vintage" gibt es die passende Kleidung.\n \nBillet: 25\,00 €  \ninkl. 1
  Glas Kir Royal und feinstes Salzgebäck.\nVVK: www.koelnticket.de/event/v
 ive-la-boehme-hinterhofsalon-19533220/
END:VEVENT
BEGIN:VTIMEZONE
TZID:Europe/Berlin
X-LIC-LOCATION:Europe/Berlin
BEGIN:DAYLIGHT
DTSTART:20250330T030000
TZOFFSETFROM:+0100
TZOFFSETTO:+0200
TZNAME:CEST
END:DAYLIGHT
END:VTIMEZONE
END:VCALENDAR