BEGIN:VCALENDAR
VERSION:2.0
PRODID:-//wp-events-plugin.com//7.2.3.1//EN
TZID:Europe/Berlin
X-WR-TIMEZONE:Europe/Berlin
BEGIN:VEVENT
UID:5219@frauenportal.koeln
DTSTART;TZID=Europe/Berlin:20241109T110000
DTEND;TZID=Europe/Berlin:20241109T150000
DTSTAMP:20241023T090131Z
URL:https://frauenportal.koeln/veranstaltungen/vom-abschiednehmen-und-trau
 rigsein-oder-weshalb-trauer-raum-braucht-um-neue-perspektiven-zu-eroeffnen
 /
SUMMARY:Vom Abschiednehmen und Traurigsein oder: Weshalb Trauer Raum brauch
 t\, um neue Perspektiven zu eröffnen
DESCRIPTION:Bettina Strunk zu ihrem Angebot:\n\n"Tod und Abschied - für di
 e einen ein Thema\, das sie gerne von sich wegschieben\, für die anderen 
 eins\, dem sie sich stellen müssen\, weil sie gerade in einem Verlustproz
 ess stehen.\n\nIn einem solchen aber stehen wir letztendlich alle\, weil w
 ir Menschen und deshalb ständigen Veränderungen unterworfen sind. Denn A
 bschiednehmen bedeutet nicht nur\, dass wir einen geliebten Menschen verlo
 ren haben\, sondern dass auch etwas Geliebtes\, Vertrautes zu Ende gegange
 n ist. Auch die Auseinandersetzung mit nicht gelebten Möglichkeiten\, wie
  z.B. einem unerfüllten Kinderwunsch\, kann uns in eine tiefe Traurigkeit
  versetzen\n\nDieser Workshop ist für Menschen\, die sich selbst in einem
 \, wie auch immer gearteten\, Trauerprozess befinden\, und für jene\, die
  Menschen in ihrer Trauer begleiten. Mit meinem Angebot\, diesen Prozess n
 eurographisch zu visualisieren\, möchte ich dich einladen\, die Vergangen
 heit liebevoll zu betrachten\, die Gegenwart selbstwirksam zu gestalten un
 d die Zukunft hoffnungsvoll zu erwarten.\n\nHinweis: Dieser Workshop erfol
 gt in Selbstverantwortung. Er ersetzt in akuter Trauer- und Abschiedsarbei
 t keine Psychotherapie oder Selbsthilfegruppe.​\n\nHier erfährst du meh
 r: www.sinn-stift-art.de/muehlenworkshop-trauer-und-abschied\n\nDer Kurs i
 st auf 10 Teilnehmende beschränkt."\n\n
END:VEVENT
BEGIN:VTIMEZONE
TZID:Europe/Berlin
X-LIC-LOCATION:Europe/Berlin
BEGIN:STANDARD
DTSTART:20241027T020000
TZOFFSETFROM:+0200
TZOFFSETTO:+0100
TZNAME:CET
END:STANDARD
END:VTIMEZONE
END:VCALENDAR