BEGIN:VCALENDAR
VERSION:2.0
PRODID:-//wp-events-plugin.com//7.2.3.1//EN
TZID:Europe/Berlin
X-WR-TIMEZONE:Europe/Berlin
BEGIN:VEVENT
UID:1403@frauenportal.koeln
DTSTART;TZID=Europe/Berlin:20181130T190000
DTEND;TZID=Europe/Berlin:20181130T210000
DTSTAMP:20181031T184403Z
URL:https://frauenportal.koeln/veranstaltungen/vom-umgang-mit-der-eigenen-
 sterblichkeit/
SUMMARY:Vom Umgang mit der eigenen Sterblichkeit
DESCRIPTION:„Ein Koffer für die letzte Reise“ ist der Titel eines Kuns
 tprojekts\, das der Bestatter Pütz Roth im Jahr 2005 ins Leben gerufen ha
 t: In diesem Rahmen hat er dazu aufgefordert\, sich auf die Endlichkeit je
 den Lebens und auf das individuell Wesentliche zu besinnen. Insgesamt 100 
 BürgerInnen dieses Landes – Frauen und Männer\, alte und junge\, Küns
 tlerInnen und HandwerkerInnen\, Prominente und nicht Prominente – packte
 n den Koffer\, der sie auf ihrer letzten Reise begleiten könnte. Zu diese
 m Projekt ist eine beeindruckende Dokumentation entstanden\, die als Grund
 lage zur Diskussion über die eigene Endlichkeit dienen soll.\n\nReferenti
 n:\nMechtild Nolteernsting\, www.mechtild-nolteernsting.de\n\nVeranstalter
 innen:\nBeginen Köln e.V.\n\nAnsprechpartnerinnen:\nChristine Müthrath\,
  Tel.: 0221 / 9655820\, E-Mail: info@beginen.de\n\nKosten / Anmeldung:\nKo
 stenbeitrag: 8 € / 5 € ermäßigter Beitrag\nErmäßigte Beiträge gel
 ten für Vereinsfrauen und Kölnpass-Inhaber*innen.\n\nVeranstaltungsort:\
 nBeginentreff im Beginenhof Köln\, Unter Linden 119\, 50859 Köln\, [map 
 id=1048]
END:VEVENT
BEGIN:VTIMEZONE
TZID:Europe/Berlin
X-LIC-LOCATION:Europe/Berlin
BEGIN:STANDARD
DTSTART:20181028T020000
TZOFFSETFROM:+0200
TZOFFSETTO:+0100
TZNAME:CET
END:STANDARD
END:VTIMEZONE
END:VCALENDAR