BEGIN:VCALENDAR
VERSION:2.0
PRODID:-//wp-events-plugin.com//7.2.3.1//EN
TZID:Europe/Berlin
X-WR-TIMEZONE:Europe/Berlin
BEGIN:VEVENT
UID:3615@frauenportal.koeln
DTSTART;TZID=Europe/Berlin:20220106T170000
DTEND;TZID=Europe/Berlin:20220106T183000
DTSTAMP:20211231T123752Z
URL:https://frauenportal.koeln/veranstaltungen/von-frauenhand-mittelalterl
 iche-handschriften/
SUMMARY:Von Frauenhand - Mittelalterliche Handschriften
DESCRIPTION:Die Herstellung und Illustration von Büchern lag im Mittelalte
 r oft in den Händen von Frauen. Das Museum Schnütgen präsentiert eine  
 Auswahl an Handschriften\, die von  Ordensfrauen in Nordfrankreich\, Köln
 \, Niedersachsen und Nürnberg geschaffen wurden. Die Tätigkeit als Schre
 iberin und Buchmalerin erforderte Disziplin\, intellektuelle Fähigkeiten 
 sowie handwerkliches Können. Künstlerisch wertvolle Bücher wurden für 
 den eigenen Bedarf und auch für externe  Auftraggeber angefertigt. An Buc
 hbeispielen um 800 und aus dem späten Mittelalter lassen sich Prinzipien 
 des Layouts\, Veränderungen der Buchmalerei und auch die Frage nach einer
  spezifisch weiblichen Gestaltung erkunden.\n\nVeranstalterin:\nKölner Fr
 auengeschichtsverein e.V.\n\nKontakt:\nTel.: 0221 / 24 82 65\, E-Mail: inf
 o@frauengeschichtsverein.de\n\nKosten / Anmeldung:\nKostenbeitrag: 10 € 
 zzgl. Eintritt für NichtKölner*innen (Bitte Personalausweis mitbringen)\
 nWegen Corona: 2 G - Ausweiskontrolle - Maskenpflicht - Abstand\nBitte anm
 elden: Tel.: 0221 / 24 82 65\, E-Mail: info@frauengeschichtsverein.de\n\nV
 eranstaltungsort:\nTreffpunkt: vor der Kasse im Schnütgenmuseum\, Cäcili
 enstraße 29-33 (zugleich Rautenstrauch-Joest-Museum)\, 50667 Köln\, [map
  id=1070]
END:VEVENT
BEGIN:VTIMEZONE
TZID:Europe/Berlin
X-LIC-LOCATION:Europe/Berlin
BEGIN:STANDARD
DTSTART:20211031T020000
TZOFFSETFROM:+0200
TZOFFSETTO:+0100
TZNAME:CET
END:STANDARD
END:VTIMEZONE
END:VCALENDAR