BEGIN:VCALENDAR
VERSION:2.0
PRODID:-//wp-events-plugin.com//7.2.3.1//EN
TZID:Europe/Berlin
X-WR-TIMEZONE:Europe/Berlin
BEGIN:VEVENT
UID:1990@frauenportal.koeln
DTSTART;TZID=Europe/Berlin:20190725T160000
DTEND;TZID=Europe/Berlin:20190725T170000
DTSTAMP:20190630T125448Z
URL:https://frauenportal.koeln/veranstaltungen/vorlesestunde-fuer-kinder-v
 on-3-6-jahren/
SUMMARY:Vorlesestunde für Kinder von 3 - 6 Jahren
DESCRIPTION:mit Christa Steinhauer\n\nVeranstalterin:\nBeginen Köln e.V.\n
 \nAnsprechpartnerinnen:\nChristine Müthrath\, Tel.: 0221 / 9655820\, E-Ma
 il: info@beginen.de\n\nVeranstaltungsort:\nBeginenfenster\, Markmannsgasse
  7\, 50667 Köln\, [map id=891]
END:VEVENT
BEGIN:VTIMEZONE
TZID:Europe/Berlin
X-LIC-LOCATION:Europe/Berlin
BEGIN:DAYLIGHT
DTSTART:20190331T030000
TZOFFSETFROM:+0100
TZOFFSETTO:+0200
TZNAME:CEST
END:DAYLIGHT
END:VTIMEZONE
END:VCALENDAR