BEGIN:VCALENDAR
VERSION:2.0
PRODID:-//wp-events-plugin.com//7.2.3.1//EN
TZID:Europe/Berlin
X-WR-TIMEZONE:Europe/Berlin
BEGIN:VEVENT
UID:3211@frauenportal.koeln
DTSTART;TZID=Europe/Berlin:20210311T183000
DTEND;TZID=Europe/Berlin:20210311T200000
DTSTAMP:20210304T145023Z
URL:https://frauenportal.koeln/veranstaltungen/vortrag-frauenwahlrecht-na-
 und/
SUMMARY:Vortrag: Frauenwahlrecht - na und?
DESCRIPTION:1918 erhielten Frauen nach großem Widerstand das allgemeine Wa
 hlrecht. Wie ging es danach weiter? Bekamen Frauen eine reale Chance\, in 
 der Poliik mitzumischen? Schon in den 20er Jahren gab es Frauenlisten\, di
 e wiederum heftig bekämpt wurden.\n\n2021 stehen viele Wahlen an. Damals 
 wie heute geht es nicht nur um das Recht zur Wahl sondern auch um aussicht
 sreiche Kandidaturen….\n\nEin Vortrag der Historikerin Bettina Bab.\n\nV
 eranstalterin:\nFrauenmuseum\n\nAnsprechpartnerin:\nPetra Peter-Friedrichs
 \, Tel: 0228/ 691344\, E-Mail: petra.peter-friedrichs@frauenmuseum.de\n\n&
 nbsp\;Kosten / Anmeldung:\nEintritt frei\, Anmeldung erforderlich bei E-Ma
 il: bettina.bab@frauenmuseum.de\n&nbsp\;\nVeranstaltungsort:\nonline
END:VEVENT
BEGIN:VTIMEZONE
TZID:Europe/Berlin
X-LIC-LOCATION:Europe/Berlin
BEGIN:STANDARD
DTSTART:20201025T020000
TZOFFSETFROM:+0200
TZOFFSETTO:+0100
TZNAME:CET
END:STANDARD
END:VTIMEZONE
END:VCALENDAR