BEGIN:VCALENDAR
VERSION:2.0
PRODID:-//wp-events-plugin.com//7.2.3.1//EN
TZID:Europe/Berlin
X-WR-TIMEZONE:Europe/Berlin
BEGIN:VEVENT
UID:2633@frauenportal.koeln
DTSTART;TZID=Europe/Berlin:20200527T200000
DTEND;TZID=Europe/Berlin:20200527T213000
DTSTAMP:20200529T150701Z
URL:https://frauenportal.koeln/veranstaltungen/vortrag-fuer-angehoerige-da
 nn-dreht-sich-alles-nur-noch-ums-essen-3/
SUMMARY:Vortrag für Angehörige: Dann dreht sich alles nur noch ums Essen
 …
DESCRIPTION:Der Termin findet nicht statt.\n\nEssstörungen sind Erkrankung
 en\, die nicht nur die Betroffenen selbst\, sondern auch ihr Umfeld betref
 fen. Angehörige fühlen sich dann oft hilflos und überfordert. Sie möch
 ten unterstützen\, haben Sorgen Fehler zu machen\, eigene Bedürfnisse ge
 raten dabei oft aus dem Blick. Konflikte sind nicht selten. In diesem Vort
 rag werden Hintergründe beleuchtet und Lösungsansätze aufgezeigt.\nAnsc
 hließend gibt es Raum für Fragen und Austausch.\n\nReferentin:\nAndrea F
 rewer\, Dipl. Heilpädagogin\, Heilpraktikerin Psychotherapie\n\nVeranstal
 terin:\nFrauenLeben e.V. Köln\, Frauenberatungsstelle\n\nAnsprechpartneri
 n:\nMargret Schnetgöke\, Tel.: 0221 / 954 16 60\, E-Mail: mail@frauenlebe
 n.org\n\nKosten / Anmeldung:\nUm Anmeldung wird gebeten. Das Angebot ist k
 ostenfrei.\n\nVeranstaltungsort:\nFrauenLeben\, Venloer Str. 405 - 407\, 5
 0825 Köln\, [map id=889]
END:VEVENT
BEGIN:VTIMEZONE
TZID:Europe/Berlin
X-LIC-LOCATION:Europe/Berlin
BEGIN:DAYLIGHT
DTSTART:20200329T030000
TZOFFSETFROM:+0100
TZOFFSETTO:+0200
TZNAME:CEST
END:DAYLIGHT
END:VTIMEZONE
END:VCALENDAR