BEGIN:VCALENDAR
VERSION:2.0
PRODID:-//wp-events-plugin.com//7.2.3.1//EN
TZID:Europe/Berlin
X-WR-TIMEZONE:Europe/Berlin
BEGIN:VEVENT
UID:1744@frauenportal.koeln
DTSTART;TZID=Europe/Berlin:20190207T200000
DTEND;TZID=Europe/Berlin:20190207T213000
DTSTAMP:20190122T135814Z
URL:https://frauenportal.koeln/veranstaltungen/vortrag-fuer-angehoerige-da
 nn-dreht-sich-alles-nur-noch-ums-essen/
SUMMARY:Vortrag für Angehörige: Dann dreht sich alles nur noch ums Essen
 …
DESCRIPTION:Essstörungen sind Erkrankungen\, die nicht nur die Betroffenen
  selbst\, sondern auch ihr Umfeld betreffen. Angehörige fühlen sich dann
  oft hilflos und überfordert. Sie möchten unterstützen\, haben Sorgen F
 ehler zu machen\, eigene Bedürfnisse geraten dabei oft aus dem Blick. Kon
 flikte sind nicht selten. In diesem Vortrag werden Hintergründe beleuchte
 t und Lösungsansätze aufgezeigt.\nAnschließend gibt es Raum für Fragen
  und Austausch.\n\nReferentin: \nAndrea Frewer\, Dipl. Heilpädagogin\, He
 ilpraktikerin Psychotherapie \n\nVeranstalterin:\nFrauenLeben e.V. Köln\,
  Frauenberatungsstelle\n\nAnsprechpartnerin:\nMargret Schnetgöke\, Tel.: 
 0221 / 954 16 60\, E-Mail: mail@frauenleben.org\n\nKosten / Anmeldung:\nKe
 ine Anmeldung erforderlich. Das Angebot ist kostenfrei.\n\nVeranstaltungso
 rt:\nFrauenLeben\, Venloer Str. 405 - 407\, 50825 Köln\, [map id=889] 
END:VEVENT
BEGIN:VTIMEZONE
TZID:Europe/Berlin
X-LIC-LOCATION:Europe/Berlin
BEGIN:STANDARD
DTSTART:20181028T020000
TZOFFSETFROM:+0200
TZOFFSETTO:+0100
TZNAME:CET
END:STANDARD
END:VTIMEZONE
END:VCALENDAR