BEGIN:VCALENDAR
VERSION:2.0
PRODID:-//wp-events-plugin.com//7.2.3.1//EN
TZID:Europe/Berlin
X-WR-TIMEZONE:Europe/Berlin
BEGIN:VEVENT
UID:3711@frauenportal.koeln
DTSTART;TZID=Europe/Berlin:20220401T180000
DTEND;TZID=Europe/Berlin:20220401T200000
DTSTAMP:20220331T073059Z
URL:https://frauenportal.koeln/veranstaltungen/warum-waren-sie-so-provokan
 t/
SUMMARY:Warum waren sie so provokant?
DESCRIPTION:Begleitend zu der Ausstellung "Wir sind! Neue Frauenbewegung un
 d feministische Kunst" – 06.03. bis 30.10.2022 –  findet eine Diskussi
 on mit den beiden ehemaligen Kölner Aktivistinnen Lie Selter und Claudia 
 Pinl sowie der jungen Feministin aus Bonn Dr. Julia Höller statt.\n\nDie 
 Journalistin Claudia Pinl (frauenstadtplan.koeln/claudia-pinl/) trat unter
  anderem für die Abschaffung des § 218 ein\, nahm an öffentlichen Aktio
 nen teil\, war im Frauenzentrum Köln aktiv und schrieb Artikel für die Z
 eitschrift Emma. Lie Selter (frauenstadtplan.koeln/lie-lieselotte-selter/)
  engagierte sich für das erste Frauenhaus und wurde 1982 erste kommunale 
 Frauenbeauftragte in Köln\, wo ihr unvorstellbare Hindernisse in den Weg 
 gelegt wurden. Dr. Julia Höller macht sich in der Politik für Frauen sta
 rk.\n\nWas waren/sind ihre Motivation\, ihr Erfolg und welche Widerstände
  begegne(te)n ihnen? Was hat sich geändert und welche damaligen Themen si
 nd heute noch aktuell?\n\nVeranstalterin:\nFrauenmuseum\n\nAnsprechpartner
 in:\nEllen Junger\, Tel: 0228 / 691344\, E-Mail: ellen.junger@frauenmuseum
 .de\n&nbsp\;\nKosten / Anmeldung:\nEintritt frei\, um Voranmeldungen wird 
 gebeten. Bitte vergessen Sie nicht Ihre allerschönste Maske zu tragen.\n\
 nVeranstaltungsort:\nFrauenmuseum\, Im Krausfeld 10\, 53111 Bonn\, [map id
 =904]
END:VEVENT
BEGIN:VTIMEZONE
TZID:Europe/Berlin
X-LIC-LOCATION:Europe/Berlin
BEGIN:DAYLIGHT
DTSTART:20220327T030000
TZOFFSETFROM:+0100
TZOFFSETTO:+0200
TZNAME:CEST
END:DAYLIGHT
END:VTIMEZONE
END:VCALENDAR