BEGIN:VCALENDAR
VERSION:2.0
PRODID:-//wp-events-plugin.com//7.2.3.1//EN
TZID:Europe/Berlin
X-WR-TIMEZONE:Europe/Berlin
BEGIN:VEVENT
UID:4445@frauenportal.koeln
DTSTART;TZID=Europe/Berlin:20231130T170000
DTEND;TZID=Europe/Berlin:20231130T180000
DTSTAMP:20231031T091658Z
URL:https://frauenportal.koeln/veranstaltungen/wbc-online-stammtisch-3/
SUMMARY:WBC-Online-Stammtisch
DESCRIPTION:Der Stammtisch ist eine gute Gelegenheit\, WBC-Luft zu schnuppe
 rn\, sich mit anderen Interessierten auch themenbezogen austauschen\, zu n
 etzwerken und vieles mehr. Thema dieses Mal:\n\n"Mitten im Leben – Und w
 ie kann ich dich verstehen" \n\nVeranstalterin:\nWomans Business Club Colo
 gne\n\nAnsprechpartnerin:\nMartina Fach-Overhoff\, Tel.: 0172 / 2440009\, 
 E-Mail: supervision.mfo@t-online.de\n\nKosten:\nKein Kostenbeitrag. Anmeld
 ung erforderlich (wg. der Zoom-Zugangsdaten).\n\nVeranstaltungsort:\nonlin
 e
END:VEVENT
BEGIN:VTIMEZONE
TZID:Europe/Berlin
X-LIC-LOCATION:Europe/Berlin
BEGIN:STANDARD
DTSTART:20231029T020000
TZOFFSETFROM:+0200
TZOFFSETTO:+0100
TZNAME:CET
END:STANDARD
END:VTIMEZONE
END:VCALENDAR