BEGIN:VCALENDAR
VERSION:2.0
PRODID:-//wp-events-plugin.com//7.2.3.1//EN
TZID:Europe/Berlin
X-WR-TIMEZONE:Europe/Berlin
BEGIN:VEVENT
UID:5111@frauenportal.koeln
DTSTART;TZID=Europe/Berlin:20240910T180000
DTEND;TZID=Europe/Berlin:20240910T184500
DTSTAMP:20240926T100031Z
URL:https://frauenportal.koeln/veranstaltungen/wbc-online-stammtisch-7/
SUMMARY:WBC-Online-Stammtisch
DESCRIPTION:Der Stammtisch ist eine gute Gelegenheit\, WBC-Luft zu schnuppe
 rn\, sich mit anderen Interessierten auch themenbezogen austauschen\, zu n
 etzwerken und vieles mehr. Die Erfahrung zeigt\, das dies auch in einer Vi
 deo-Konferenz – mit überschaubarem Aufwand – gut möglich ist.\n\nThe
 ma dieses Mal:\n\n"Mit Klarheit in Gesprächen zum Erfolg" \n\nVeranstalte
 rin:\nWomans Business Club Cologne\n\nAnsprechpartnerin:\nMartina Fach-Ove
 rhoff\, Tel.: 0172 / 2440009\, E-Mail: supervision.mfo@t-online.de\n\nKost
 en:\nKein Kostenbeitrag. Anmeldung erforderlich (wg. der Zoom-Zugangsdaten
 ).\n\nVeranstaltungsort:\nonline
END:VEVENT
BEGIN:VTIMEZONE
TZID:Europe/Berlin
X-LIC-LOCATION:Europe/Berlin
BEGIN:DAYLIGHT
DTSTART:20240331T030000
TZOFFSETFROM:+0100
TZOFFSETTO:+0200
TZNAME:CEST
END:DAYLIGHT
END:VTIMEZONE
END:VCALENDAR