BEGIN:VCALENDAR
VERSION:2.0
PRODID:-//wp-events-plugin.com//7.2.3.1//EN
TZID:Europe/Berlin
X-WR-TIMEZONE:Europe/Berlin
BEGIN:VEVENT
UID:3858@frauenportal.koeln
DTSTART;TZID=Europe/Berlin:20220829T130000
DTEND;TZID=Europe/Berlin:20220829T140000
DTSTAMP:20221130T084848Z
URL:https://frauenportal.koeln/veranstaltungen/webinar-5-tipps-fuer-besser
 e-handy-fotos/
SUMMARY:Webinar "5 Tipps für bessere Handy-Fotos"
DESCRIPTION:Rebecca Lenz zu ihrem Angbot:\n\n"Du erstellst regelmäßig Fot
 os mit Deinem Handy für Deine Webseite\, Deinen Blog und/oder Social Medi
 a Kanäle? Doch Deine Bilder erzielen nicht die gewünschte Wirkung? Dann 
 ist dieses Webinar für Dich!\n\nAnhand grundlegender Punkte lernst Du\, w
 ie sich die Qualität Deiner Bilder verbessert und Du Dich damit von den 0
 815-Handy-Bildern unterscheidest."
END:VEVENT
BEGIN:VTIMEZONE
TZID:Europe/Berlin
X-LIC-LOCATION:Europe/Berlin
BEGIN:DAYLIGHT
DTSTART:20220327T030000
TZOFFSETFROM:+0100
TZOFFSETTO:+0200
TZNAME:CEST
END:DAYLIGHT
END:VTIMEZONE
END:VCALENDAR