BEGIN:VCALENDAR
VERSION:2.0
PRODID:-//wp-events-plugin.com//7.2.3.1//EN
TZID:Europe/Berlin
X-WR-TIMEZONE:Europe/Berlin
BEGIN:VEVENT
UID:2037@frauenportal.koeln
DTSTART;TZID=Europe/Berlin:20190829T190000
DTEND;TZID=Europe/Berlin:20190829T210000
DTSTAMP:20190731T172318Z
URL:https://frauenportal.koeln/veranstaltungen/wegbereiterinnen-beruehmte-
 bekannte-und-zu-unrecht-vergessene-frauen-aus-der-geschichte/
SUMMARY:Wegbereiterinnen: Berühmte\, bekannte und zu Unrecht vergessene Fr
 auen aus der Geschichte
DESCRIPTION:Vorstellung des gleichnamigen Buches durch die Herausgeberin Dr
 . Gisela Notz (Historikerin und Sozialwissenschaftlerin\, Wikipedia).\n\nD
 as Buch enthält 192 Frauen-Biografien aus der ganzen Welt – erstmals zu
 sammengetragen in den Wandkalendern „Wegbereiterinnen“ von 2003 – 20
 18. Es sind Frauen aus allen Berufs- und Bevölkerungskreisen. Viele haben
  es von der Näherin oder vom Dienstmädchen bis in die höchsten politisc
 hen Ränge geschafft und dort die Interessen der „Kleinen“ und „Zu-k
 urz-Gekommenen“ auch wirklich vertreten. Neben Politikerinnen zeigen die
  Portraits Gewerkschafterinnen\, Wissen&shy\;schaft&shy\;ler&shy\;in&shy\;
 nen\, Sozialarbeiterinnen\, Pädagoginnen\, Architektinnen\, Künstlerinne
 n und viele andere.\n\nMit dem Buch 'Wegbereiterinnen' liegt ein inspirier
 endes Nachschlagewerk vor\, das eine weitgefächerte Auswahl von Frauensch
 icksalen vorstellt. Viele sind heute vergessen\, obwohl sie ihr Zeitalter 
 prägten. Aus den spannenden Biografien können wir lernen\, dass es wicht
 ig ist\, auch einmal gegen den Strom zu schwimmen um für das ‚gute Lebe
 n‘ zu kämpfen. \n\nVeranstalterin:\nBeginen Köln e.V.\n\nAnsprechpartn
 erin:\nChristine Müthrath\, Tel.: 0221 / 9655820\, E-Mail: info@beginen.d
 e\n\nKosten:\nKostenbeitrag: 8\,- € / 5\,- €\n(Ermäßigte Beiträge g
 elten für Vereinsfrauen und Kölnpass-InhaberInnen)\n\nVeranstaltungsort:
 \nBeginentreff im Beginenhof Köln\, Unter Linden 119\, 50859 Köln\, [map
  id=1048]
END:VEVENT
BEGIN:VTIMEZONE
TZID:Europe/Berlin
X-LIC-LOCATION:Europe/Berlin
BEGIN:DAYLIGHT
DTSTART:20190331T030000
TZOFFSETFROM:+0100
TZOFFSETTO:+0200
TZNAME:CEST
END:DAYLIGHT
END:VTIMEZONE
END:VCALENDAR