BEGIN:VCALENDAR
VERSION:2.0
PRODID:-//wp-events-plugin.com//7.2.3.1//EN
TZID:Europe/Berlin
X-WR-TIMEZONE:Europe/Berlin
BEGIN:VEVENT
UID:6005@frauenportal.koeln
DTSTART;TZID=Europe/Berlin:20251201T193000
DTEND;TZID=Europe/Berlin:20251201T220000
DTSTAMP:20251128T111828Z
URL:https://frauenportal.koeln/veranstaltungen/weihnachts-ladyjam-4/
SUMMARY:Weihnachts-LadyJam
DESCRIPTION:– Ladies on Stage –\n\n"Wie jedes Jahr erwarten euch mehr o
 der weniger besinnliche Klänge – lasst euch überraschen!"\n\nBei diese
 r Jam gibt es keine offene Bühne!\n\nVeranstalterin:\nFrauenmusikclub Kö
 ln e.V.\n\nKontakt:\nTel.: 0221 / 5 10 23 28\, E-Mail: info@fmck.de\n\nKos
 ten / Anmeldung:\nDer Eintritt ist frei. Einlass kurz vor 19.30 Uhr.
LOCATION:anyway e.V.\, Kamekestr. 14\, 50672 Köln
GEO:50.941919;6.938046
X-APPLE-STRUCTURED-LOCATION;VALUE=URI;X-ADDRESS=Kamekestr. 14\, Köln\, 506
 72\, Veranstaltungsort\, Deutschland;X-APPLE-RADIUS=100;X-TITLE=anyway e.V
 .:geo:50.941919,6.938046
END:VEVENT
BEGIN:VTIMEZONE
TZID:Europe/Berlin
X-LIC-LOCATION:Europe/Berlin
BEGIN:STANDARD
DTSTART:20251026T020000
TZOFFSETFROM:+0200
TZOFFSETTO:+0100
TZNAME:CET
END:STANDARD
END:VTIMEZONE
END:VCALENDAR