BEGIN:VCALENDAR
VERSION:2.0
PRODID:-//wp-events-plugin.com//7.2.3.1//EN
TZID:Europe/Berlin
X-WR-TIMEZONE:Europe/Berlin
BEGIN:VEVENT
UID:6131@frauenportal.koeln
DTSTART;TZID=Europe/Berlin:20260325T100000
DTEND;TZID=Europe/Berlin:20260325T140000
DTSTAMP:20260227T153450Z
URL:https://frauenportal.koeln/veranstaltungen/wendo-selbstbehauptung-vert
 eidigung-fuer-frauen-ab-60-2/
SUMMARY:WenDo Selbstbehauptung/-verteidigung für Frauen ab 60
DESCRIPTION:Stärken erkennen\, Grenzen setzen\, Handlungsspielräume erwei
 tern.\n\nJede Frau kennt Situationen die ihr nicht gefallen\, in denen sie
  sich unwohl\, unsicher oder bedroht fühlt. Es gibt ganz unterschiedliche
  Tricks und Ideen\, sich zu wehren. Selbstverteidigung ist nicht nur Trete
 n und Schlagen. Sich wehren ist viel öfter: Nein sagen\, eigene Grenzen d
 eutlich setzen\, Hilfe holen\, die Stimme einsetzen\, sich einmischen….\
 nWenDo ist für alle Frauen geeignet.  Unterschiedlichkeit der Teilnehmeri
 nnen\, z.B. im Alter\, im körperlichen Befinden\, in ihrer Betroffenheit 
 von Gewalt\, werden berücksichtigt. Sportlichkeit und Fitness ist nicht n
 otwendig.\n \nVeranstalterinnen:\n\nMelanchthon-Akademie Köln\, www.melan
 chthon-akademie.de 	\nPaula e.V.\, www.paula-ev-koeln.de 	\n\nAnsprechpart
 nerin:\nMartina Böhmer\, Tel.: 0221 / 76 46 22 94\, E-Mail: info@paula-ev
 -koeln.de\n\nKosten / Anmeldung:\nTeilnahmeentgelt: 35 Euro\nAnmeldung: ww
 w.melanchthon-akademie.de/programm/kurs/20669-wendo-selbstbehauptung-verte
 idigung-fuer-frauen-ab-60\nDer Raum im Haus der Ev. Kirche ist nicht barri
 erefrei zugänglich (Stufen am Eingang). Bei Bedarf wird gerne unterstütz
 end zur Seite gestanden – bitte im Voraus Kontakt mit der Melanchthon-Ak
 ademie aufnehmen.\n
LOCATION:Haus der Ev. Kirche\, Kartäusergasse 9\, 50678 Köln
GEO:50.925179;6.955022
X-APPLE-STRUCTURED-LOCATION;VALUE=URI;X-ADDRESS=Kartäusergasse 9\, Köln\,
  50678\, Veranstaltungsort\, Deutschland;X-APPLE-RADIUS=100;X-TITLE=Haus d
 er Ev. Kirche:geo:50.925179,6.955022
END:VEVENT
BEGIN:VTIMEZONE
TZID:Europe/Berlin
X-LIC-LOCATION:Europe/Berlin
BEGIN:STANDARD
DTSTART:20251026T020000
TZOFFSETFROM:+0200
TZOFFSETTO:+0100
TZNAME:CET
END:STANDARD
END:VTIMEZONE
END:VCALENDAR