BEGIN:VCALENDAR
VERSION:2.0
PRODID:-//wp-events-plugin.com//7.2.3.1//EN
TZID:Europe/Berlin
X-WR-TIMEZONE:Europe/Berlin
BEGIN:VEVENT
UID:2129@frauenportal.koeln
DTSTART;TZID=Europe/Berlin:20191130T150000
DTEND;TZID=Europe/Berlin:20191130T180000
DTSTAMP:20191002T143349Z
URL:https://frauenportal.koeln/veranstaltungen/wenn-mama-arbeitet/
SUMMARY:Wenn Mama arbeitet
DESCRIPTION:Britt Bürgel zu ihrem Angebot:\n\n"Dieser Workshop ist für di
 ch\, wenn du berufstätige Mama bist und im Job das Gefühl hast\, da geht
  noch was: mehr Zufriedenheit\, weniger Stress und weniger schlechtes Gewi
 ssen. Wenn du in Elternzeit bist und dich auf den Wiedereinstieg vorbereit
 en möchtest. Wenn du dich fragst\, ob du wirklich zurück willst in den a
 lten Beruf. Wenn du Lust auf Inspiration\, Coaching-Impulse und Austausch 
 hast. \n\nInvestition: 95 Euro inkl. Getränke und Snacks\n\nVeranstaltung
 sort: COWOKI\, Dorothee-Sölle-Platz 2\, 50672 Köln"
END:VEVENT
BEGIN:VTIMEZONE
TZID:Europe/Berlin
X-LIC-LOCATION:Europe/Berlin
BEGIN:STANDARD
DTSTART:20191027T020000
TZOFFSETFROM:+0200
TZOFFSETTO:+0100
TZNAME:CET
END:STANDARD
END:VTIMEZONE
END:VCALENDAR