BEGIN:VCALENDAR
VERSION:2.0
PRODID:-//wp-events-plugin.com//7.2.3.1//EN
TZID:Europe/Berlin
X-WR-TIMEZONE:Europe/Berlin
BEGIN:VEVENT
UID:1084@frauenportal.koeln
DTSTART;TZID=Europe/Berlin:20180419T190000
DTEND;TZID=Europe/Berlin:20180419T210000
DTSTAMP:20180331T151552Z
URL:https://frauenportal.koeln/veranstaltungen/wer-lacht-hat-keine-angst-n
 lp-info-workshop/
SUMMARY:Wer lacht\, hat keine Angst! – NLP-Info-Workshop
DESCRIPTION:Jenison Thomkins zu ihrem Angebot:\n\n"Über sich selbst zu lac
 hen setzt einen befreienden Entwicklungsschub in Gang\, der zu Leichtigkei
 t führt. Es ist wie eine Offenbarung\, besonders für „brave Töchter
 “ sehr zu empfehlen! Verfahrene Situationen und eingefleischte Glaubenss
 ätze verschwinden wie weggeblasen. Das ist der wirksame und urkomische\, 
 provokative Ansatz von Therapeut Frank Farelli. Was provokativer Stil ist 
 und wie man ihn in unterschiedlichen Situationen für sich nutzen kann\, z
 eige ich Ihnen sehr gern!\n\nKostenloser Info Workshop zu allen Veranstalt
 ungen im Atelier!\n\nFür alle Practitioner-\, Master- und 4D-Typologie-In
 teressierten ist dieser Abend eine gute Gelegenheit\, sich über meine Arb
 eit und alle anderen Fragen bezüglich der Ausbildungen und Bildungsurlaub
 e der kommenden Zeit  zu informieren!\n\nWas geschieht beim NLP-Info-Works
 hop?\n\n 	Ankommen\, Kaffee und Tee trinken\n 	Trainer\, Assistent-Innen u
 nd andere nette Menschen kennenlernen\n 	theoretische Einführung ins NLP-
 Thema\n 	Praktische Übung mit persönlichem Feedback\n 	allgemeine Infos 
 zu NLP und den aktuellen Ausbildungen und Workshops im Atelier für NLP&am
 p\;Persönlichkeitsentwicklung\n\nSie sind an diesem Abend verhindert\, m
 öchten sich aber über das Jahresprogramm informieren? Gern lade ich Sie 
 zu allen weiteren Info-Workshops ein\, und bringen Sie Ihre Freunde/Partne
 r/Familie mit!"\n\nMehr Infos und Anmeldung bei: Jenison Thomkins
END:VEVENT
BEGIN:VTIMEZONE
TZID:Europe/Berlin
X-LIC-LOCATION:Europe/Berlin
BEGIN:DAYLIGHT
DTSTART:20180325T030000
TZOFFSETFROM:+0100
TZOFFSETTO:+0200
TZNAME:CEST
END:DAYLIGHT
END:VTIMEZONE
END:VCALENDAR