BEGIN:VCALENDAR
VERSION:2.0
PRODID:-//wp-events-plugin.com//7.2.3.1//EN
TZID:Europe/Berlin
X-WR-TIMEZONE:Europe/Berlin
BEGIN:VEVENT
UID:4645@frauenportal.koeln
DTSTART;TZID=Europe/Berlin:20240118T190000
DTEND;TZID=Europe/Berlin:20240118T203000
DTSTAMP:20240102T154355Z
URL:https://frauenportal.koeln/veranstaltungen/wie-du-deine-ziele-definier
 st-und-erreichst-nlp-info-workshop/
SUMMARY:Wie du deine Ziele definierst und erreichst! – NLP-Info-Workshop
DESCRIPTION:Jenison Thomkins zu ihrem Angebot:\n\n"Was soll sich bei dir ä
 ndern im neuen Jahr?\n\nJetzt ist ein guter Zeitpunkt\, um deine Strategie
 n zu ändern und neue Wege zu gehen. Was ist ein Ziel und was ein Wunsch? 
 Welche Ziele sind die richtigen für dich? Wie findest du authentische Zie
 le\, die dich glücklich machen? Auch in Punkto Beziehung\, Beruf und Figu
 r! Wie du deine Ziele erreichst\, erfährst du an diesem Abend im NLP-Info
 -Workshop!\n\nEchte\, authentische Ziele üben den Sog der Begeisterung au
 f dich aus und du kannst sie dir in leuchtenden Farben vorstellen! Dazu gi
 bt es im NLP zahlreiche hervorragende Methoden\, um die eigenen Ziele zu f
 inden\, den Weg dahin zu definieren und sie zuverlässig zu erreichen. Im 
 Workshop stelle ich dir gern einige davon vor!"\n\nHier geht es zum kosten
 losen Ticket: www.eventbrite.de/e/wie-du-deine-ziele-definierst-und-erreic
 hst-kostenloser-nlp-info-workshop-tickets-779405220997
END:VEVENT
BEGIN:VTIMEZONE
TZID:Europe/Berlin
X-LIC-LOCATION:Europe/Berlin
BEGIN:STANDARD
DTSTART:20231029T020000
TZOFFSETFROM:+0200
TZOFFSETTO:+0100
TZNAME:CET
END:STANDARD
END:VTIMEZONE
END:VCALENDAR