BEGIN:VCALENDAR
VERSION:2.0
PRODID:-//wp-events-plugin.com//7.2.3.1//EN
TZID:Europe/Berlin
X-WR-TIMEZONE:Europe/Berlin
BEGIN:VEVENT
UID:3267@frauenportal.koeln
DTSTART;TZID=Europe/Berlin:20210621T183000
DTEND;TZID=Europe/Berlin:20210621T203000
DTSTAMP:20210531T141329Z
URL:https://frauenportal.koeln/veranstaltungen/wie-frauen-stark-kommunizie
 ren/
SUMMARY:Wie Frauen stark kommunizieren
DESCRIPTION:Frauen sind gesprächiger als Männer\, werden bei Konflikten s
 chnell zickig und können sich im beruflichen Kontext schlechter durchsetz
 en. Diese unsinnigen Vorteile halten sich hartnäckig\, sogar in den Köpf
 en so mancher Frau. Oft führt dies dazu\, dass Frauen sich im Businesskon
 text einen männlichen\, bewusst härteren Kommunikationsstil aneignen. Di
 es widerspricht jedoch dem modernen Führungsverständnis.\n\nKommunikatio
 nstrainerin Ariane Willikonsky zeigt in diesem Online-Workshop\, wie Frau 
 sich auf ihre wahren Kompetenzen verlassen und so weiblich und gleichzeiti
 g stark kommunizieren kann. Dabei geht es sowohl um nonverbale Aspekte\, w
 ie Körpersprache\, Stimme und Sprechtechnik als auch um den Sprachstil un
 d die richtige Wortwahl.\n\nVeranstalterin:\nBundesverband der Frau in Bus
 iness und Management e.V.\n\nAnsprechpartnerin:\nAstrid Windfuhr\, Tel.: 0
 221 / 732 63 53\n\nKosten / Anmeldung:\nBeitrag für Gäste 10 €\, Mitgl
 ieder frei.\nAnmeldung erforderlich unter  https://www.eventbrite.de/e/wie
 -frauen-stark-kommunizieren-tickets-152377157179?\n\nVeranstaltungsort:\no
 nline
END:VEVENT
BEGIN:VTIMEZONE
TZID:Europe/Berlin
X-LIC-LOCATION:Europe/Berlin
BEGIN:DAYLIGHT
DTSTART:20210328T030000
TZOFFSETFROM:+0100
TZOFFSETTO:+0200
TZNAME:CEST
END:DAYLIGHT
END:VTIMEZONE
END:VCALENDAR