BEGIN:VCALENDAR
VERSION:2.0
PRODID:-//wp-events-plugin.com//7.2.3.1//EN
TZID:Europe/Berlin
X-WR-TIMEZONE:Europe/Berlin
BEGIN:VEVENT
UID:3351@frauenportal.koeln
DTSTART;TZID=Europe/Berlin:20211014T193000
DTEND;TZID=Europe/Berlin:20211014T214500
DTSTAMP:20210930T091954Z
URL:https://frauenportal.koeln/veranstaltungen/wie-politisch-ist-das-priva
 te-hannah-arendt-und-die-frauenfrage/
SUMMARY:Wie politisch ist das Private? Hannah Arendt und die Frauenfrage
DESCRIPTION:- Biographischer Vortrag -\n\n„Das Private ist politisch“ l
 autete ein bekannter Slogan der Neuen Frauenbewegung. Was verbirgt sich da
 hinter? Was wäre  verkehrt daran\, wenn  das Private unpolitisch wäre?\n
 \nAnhand von Hannah Arendts Auseinandersetzung mit der sogenannten Frauenf
 rage und ihrem Freiheitsbegriff diskutiert die Historikerin Kira Lizza das
  Verhältnis von Öffentlichkeit und Privatleben.\n\nVortrag und Diskussio
 n mit Kira Lizza am 115.  Geburtstag der streitbaren Theoretikerin und Phi
 losophin. \n\nVeranstalterin:\nFriedensbildungswerk Köln (www.friedensbil
 dungswerk.de)\nin Kooperation mit dem Kölner Frauengeschichtsverein e.V.\
 n\nKontakt:\nTel.: 0221 / 24 82 65\, E-Mail: info@frauengeschichtsverein.d
 e\n\nKosten / Anmeldung:\nEintritt frei\, Spenden erbeten\n\nVeranstaltung
 sort:\nFriedensbildungswerk\, Obenmarspforten 7-11\, 50667 Köln\, [map id
 =1086]
END:VEVENT
BEGIN:VTIMEZONE
TZID:Europe/Berlin
X-LIC-LOCATION:Europe/Berlin
BEGIN:DAYLIGHT
DTSTART:20210328T030000
TZOFFSETFROM:+0100
TZOFFSETTO:+0200
TZNAME:CEST
END:DAYLIGHT
END:VTIMEZONE
END:VCALENDAR