BEGIN:VCALENDAR
VERSION:2.0
PRODID:-//wp-events-plugin.com//7.2.3.1//EN
TZID:Europe/Berlin
X-WR-TIMEZONE:Europe/Berlin
BEGIN:VEVENT
UID:3175@frauenportal.koeln
DTSTART;TZID=Europe/Berlin:20210225T181500
DTEND;TZID=Europe/Berlin:20210225T204500
DTSTAMP:20210228T100041Z
URL:https://frauenportal.koeln/veranstaltungen/wie-werde-ich-clownin-kenne
 nlernabend-gespraech-und-praxis-11/
SUMMARY:Wie werde ich Clownin? KennenlernAbend: Gespräch und Praxis
DESCRIPTION:Der Termin findet nicht statt.\n\nDie Clownin zu entdecken ist 
 ein möglicher Weg\, den Kontakt in uns lebendig werden zu lassen\, der un
 s erlaubt\, Lebensthemen und Alltagssituationen aus einer humorvollen Pers
 pektive zu betrachten.\n\nDie Übungen\, die Verspieltheit\, Narrenfreihei
 t und die Vielfalt der Ausdrucksmöglichkeiten fördern\, stärken unsere 
 Vitalität\, Lebensfreude und unseren Mut. Sie lehren uns\, sogenannte Unz
 ulänglichkeiten als eine energetisch wertvolle Spiel- und Wachstumsmögli
 chkeit zu erleben. Darüberhinaus wird die Arbeit als CliniClownin angespr
 ochen.\n\nLeitung: Denise May\nKosten: 35\,00 Euro\n\nBitte kommen Sie in 
 bequemer Kleidung und bringen Sie Turn-\, Gymnastikschlüppchen oder Stopp
 ersocken mit.\n\nAnmeldung und weitere Informationen: Denise May\, ClownsZ
 eit – Die Clownsschule für Frauen
END:VEVENT
BEGIN:VTIMEZONE
TZID:Europe/Berlin
X-LIC-LOCATION:Europe/Berlin
BEGIN:STANDARD
DTSTART:20201025T020000
TZOFFSETFROM:+0200
TZOFFSETTO:+0100
TZNAME:CET
END:STANDARD
END:VTIMEZONE
END:VCALENDAR