BEGIN:VCALENDAR
VERSION:2.0
PRODID:-//wp-events-plugin.com//7.2.3.1//EN
TZID:Europe/Berlin
X-WR-TIMEZONE:Europe/Berlin
BEGIN:VEVENT
UID:3157@frauenportal.koeln
DTSTART;TZID=Europe/Berlin:20210120T093000
DTEND;TZID=Europe/Berlin:20210120T120000
DTSTAMP:20210108T124731Z
URL:https://frauenportal.koeln/veranstaltungen/wie-werde-ich-clownin-kenne
 nlernvormittag-gespraech-und-praxis/
SUMMARY:Wie werde ich Clownin? KennenlernVormittag: Gespräch und Praxis
DESCRIPTION:Der Termin findet nicht statt.Die Clownin zu entdecken ist ein 
 möglicher Weg\, den Kontakt in uns lebendig werden zu lassen\, der uns er
 laubt\, Lebensthemen und Alltagssituationen aus einer humorvollen Perspekt
 ive zu betrachten.\n\nDie Übungen\, die Verspieltheit\, Narrenfreiheit un
 d die Vielfalt der Ausdrucksmöglichkeiten fördern\, stärken unsere Vita
 lität\, Lebensfreude und unseren Mut. Sie lehren uns\, sogenannte Unzulä
 nglichkeiten als eine energetisch wertvolle Spiel- und Wachstumsmöglichke
 it zu erleben. Darüberhinaus wird die Arbeit als CliniClownin angesproche
 n.\n\nLeitung: Denise May\nKosten: 35\,00 Euro\n\nBitte kommen Sie in bequ
 emer Kleidung und bringen Sie Turn-\, Gymnastikschlüppchen oder Stopperso
 cken mit.\n\nAnmeldung und weitere Informationen: Denise May\, ClownsZeit 
 – Die Clownsschule für Frauen
END:VEVENT
BEGIN:VTIMEZONE
TZID:Europe/Berlin
X-LIC-LOCATION:Europe/Berlin
BEGIN:STANDARD
DTSTART:20201025T020000
TZOFFSETFROM:+0200
TZOFFSETTO:+0100
TZNAME:CET
END:STANDARD
END:VTIMEZONE
END:VCALENDAR