BEGIN:VCALENDAR
VERSION:2.0
PRODID:-//wp-events-plugin.com//7.2.3.1//EN
TZID:Europe/Berlin
X-WR-TIMEZONE:Europe/Berlin
BEGIN:VEVENT
UID:5578@frauenportal.koeln
DTSTART;TZID=Europe/Berlin:20250317T183000
DTEND;TZID=Europe/Berlin:20250317T213000
DTSTAMP:20250228T141003Z
URL:https://frauenportal.koeln/veranstaltungen/wie-wir-uns-trennen-bestimm
 t-wie-wir-uns-binden/
SUMMARY:Wie wir uns trennen\, bestimmt\, wie wir uns binden
DESCRIPTION:Dieser Satz schreibt nicht nur im Privaten Zukunftsgeschichte\,
  sondern auch für alle Unternehmen\, die im KI-Zeitalter überlebensfähi
 g bleiben wollen.\n\nDenn die Schlagzeilen reißen nicht ab: Eine Entlassu
 ngswelle jagt die nächste. Gleichzeitig suchen Unternehmen nach den beste
 n Talenten. Mit welcher Zukunftsstrategie gelingt es ihnen in der größte
 n Transformation der Arbeitswelt Mitarbeitende mitzunehmen und Talente fü
 r das KI-Zeitalter fitzumachen? Fest steht: Wer den Fokus nur auf das Onbo
 arding richtet und keine innovative\, zukunftsorientierte Offboarding-Stra
 tegie hat\, riskiert\, auf dem Talente-Markt ins Abseits zu geraten.\n\nDa
 s Buch 'Zukunftsstrategie Arbeitswelt' von Diplom-Psychologin Corinna Spae
 th ist das Ergebnis einer bemerkenswerten Expedition\, einer Reise der Reo
 rganisation jenseits des Mainstreams. Anhand der von der Autorin entwickel
 ten Netzwerkbindungsstrategie lernen Unternehmer:innen\, Personalentscheid
 er:innen und Führungskräfte\, wie sie in jeder Krise zu Talent-Magneten 
 werden und langfristig wettbewerbsfähig bleiben. Wandelt sich die eigene 
 Unternehmenskultur in eine Netzwerkbindungskultur\, dann entstehen Innovat
 ion und Wertschöpfung genau dort\, wo sie Menschen mehr miteinander verbi
 ndet als trennt.\n\nEs wird ein offener Austausch kombiniert mit verschied
 enen Impulsen und Praxishacks der Autorin. Gemeinsam wird zu Themen gespro
 chen wie:\n\n   \n 	Wie wird bei euch im Unternehmen mit Abschieden und le
 bensphasenbezogenen Trennungen umgegangen?\n\n   	 Wie geht es weiter in d
 en verbleibenden Teams?\n\n    	Was bedeutet eigentlich #netzwerkbindung u
 nd wie kann sie gelebt werden?\n\n\nReferentin:\nCorinna Spaeth\, www.cori
 nnaspaeth.com\n\nVeranstalterinnen:\nBPW Germany Club Köln\n\nAnsprechpar
 tnerin:\nNyelete S. Gonçalves Chilenge\,E-Mail: bpw-koeln@web.de\n\nKoste
 n /Anmeldung:\nMitglieder frei\, Interessentinnen 15 Euro. Anmeldung unter
  www.eventbrite.de/e/wie-wir-uns-trennen-bestimmt-wie-wir-uns-binden-ticke
 ts-1115789509459?aff=oddtdtcreator
LOCATION:CBS International Business School\, Bahnstraße 6-8\, 50996 Köln
GEO:50.89104;6.989801
X-APPLE-STRUCTURED-LOCATION;VALUE=URI;X-ADDRESS=Bahnstraße 6-8\, Köln\, N
 ordrhein-Westfalen\, 50996\, Veranstaltungsort\, Deutschland;X-APPLE-RADIU
 S=100;X-TITLE=CBS International Business School:geo:50.89104,6.989801
END:VEVENT
BEGIN:VTIMEZONE
TZID:Europe/Berlin
X-LIC-LOCATION:Europe/Berlin
BEGIN:STANDARD
DTSTART:20241027T020000
TZOFFSETFROM:+0200
TZOFFSETTO:+0100
TZNAME:CET
END:STANDARD
END:VTIMEZONE
END:VCALENDAR