BEGIN:VCALENDAR
VERSION:2.0
PRODID:-//wp-events-plugin.com//7.2.3.1//EN
TZID:Europe/Berlin
X-WR-TIMEZONE:Europe/Berlin
BEGIN:VEVENT
UID:4305@frauenportal.koeln
DTSTART;TZID=Europe/Berlin;VALUE=DATE:20230620
DTEND;TZID=Europe/Berlin;VALUE=DATE:20230621
DTSTAMP:20230531T084631Z
URL:https://frauenportal.koeln/veranstaltungen/wift-beim-soundtrack-cologn
 e-2023/
SUMMARY:WIFT beim Soundtrack Cologne 2023
DESCRIPTION:WIFT ist wieder mit vielen Komponistinnen und Speakerinnen bei 
 der SoundTrack Cologne (20. - 23. Juni 2023) vertreten – unter anderem b
 eim MATCHMAKING FOR WOMAN IN MEDIA & MUSIC und beim LIVE TALK: VISUALIZING
  NEW MUSIC mit WIFT-Repräsentantin Martina Pfaff.\n\nNähere Infos auf: h
 ttps://soundtrackcologne.de\n\nVeranstalterin:\nWIFT Germany – Women in 
 Film & Television Germany e.V.\, www.wiftg.de\n\nAnsprechpartnerin:\nCorne
 lia Köhler\, E-Mail: info@wiftg.de
END:VEVENT
BEGIN:VTIMEZONE
TZID:Europe/Berlin
X-LIC-LOCATION:Europe/Berlin
BEGIN:DAYLIGHT
DTSTART:20230326T030000
TZOFFSETFROM:+0100
TZOFFSETTO:+0200
TZNAME:CEST
END:DAYLIGHT
END:VTIMEZONE
END:VCALENDAR