BEGIN:VCALENDAR
VERSION:2.0
PRODID:-//wp-events-plugin.com//7.2.3.1//EN
TZID:Europe/Berlin
X-WR-TIMEZONE:Europe/Berlin
BEGIN:VEVENT
UID:1916@frauenportal.koeln
DTSTART;TZID=Europe/Berlin:20190522T190000
DTEND;TZID=Europe/Berlin:20190522T210000
DTSTAMP:20190430T102939Z
URL:https://frauenportal.koeln/veranstaltungen/wift-jour-fixe/
SUMMARY:WIFT Jour Fixe
DESCRIPTION:Ein spannender Abend zum Kennenlernen\, Austauschen\, Kontakten
 \, Vernetzen und Wiedersehen ...\n\nVeranstalterin:\nWIFTG - Women in Film
  &amp\; Television Germany e.V.\, www.wiftg.de\n\nAnsprechpartnerinnen:\nC
 ornelia Köhler\, E-Mail: corkoehler@web.de\n\nKosten / Anmeldung:\nFür 
 WIFTG-Mitglieder ist der Eintritt kostenfrei.\nFür alle anderen 15\,- Eur
 o.\nUm Anmeldung unter info@wiftg.de wird gebeten.\n\nVeranstaltungsort:\n
 Hallmackenreuther\, Brüsseler Platz 9\, 50674 Köln\, [map id=1033]
END:VEVENT
BEGIN:VTIMEZONE
TZID:Europe/Berlin
X-LIC-LOCATION:Europe/Berlin
BEGIN:DAYLIGHT
DTSTART:20190331T030000
TZOFFSETFROM:+0100
TZOFFSETTO:+0200
TZNAME:CEST
END:DAYLIGHT
END:VTIMEZONE
END:VCALENDAR