BEGIN:VCALENDAR
VERSION:2.0
PRODID:-//wp-events-plugin.com//7.2.3.1//EN
TZID:Europe/Berlin
X-WR-TIMEZONE:Europe/Berlin
BEGIN:VEVENT
UID:2546@frauenportal.koeln
DTSTART;TZID=Europe/Berlin:20200129T190000
DTEND;TZID=Europe/Berlin:20200129T210000
DTSTAMP:20200131T102453Z
URL:https://frauenportal.koeln/veranstaltungen/wift-netzwerk-treffen-2/
SUMMARY:WIFT Netzwerk-Treffen
DESCRIPTION:- Muss aus Krankheitsgründen leider verschoben werden. –\n\n
 Diversität in der Drehbuchentwicklung – gewollt\, gefördert\, umgesetz
 t?\n\nDas Netzwerktreffen zum Thema "Casting und Diversität" im September
  hat gezeigt\, wie wichtig es ist\, mit dem Thema Diversität schon bei de
 r Stoffentwicklung zu beginnen. Bei ersten Treffen im Jahr 2020 soll darü
 ber gemeinsam zu diskutiert werden.\n\nWeitere Infos folgen. \n\nVeranstal
 terin:\nWIFTG - Women in Film &amp\; Television Germany e.V.\, www.wiftg.d
 e\n\nAnsprechpartnerinnen:\nCornelia Köhler\, E-Mail: corkoehler@web.de\n
 \nKosten / Anmeldung:\nFür WIFTG-Mitglieder ist der Eintritt kostenfrei.\
 nFür alle anderen 15\,- Euro.\nUm Anmeldung unter koeln@wiftg.de wird geb
 eten.\n\nVeranstaltungsort:\nWird noch bekannt gegeben.
END:VEVENT
BEGIN:VTIMEZONE
TZID:Europe/Berlin
X-LIC-LOCATION:Europe/Berlin
BEGIN:STANDARD
DTSTART:20191027T020000
TZOFFSETFROM:+0200
TZOFFSETTO:+0100
TZNAME:CET
END:STANDARD
END:VTIMEZONE
END:VCALENDAR