BEGIN:VCALENDAR
VERSION:2.0
PRODID:-//wp-events-plugin.com//7.2.3.1//EN
TZID:Europe/Berlin
X-WR-TIMEZONE:Europe/Berlin
BEGIN:VEVENT
UID:2802@frauenportal.koeln
DTSTART;TZID=Europe/Berlin:20200717T190000
DTEND;TZID=Europe/Berlin:20200717T210000
DTSTAMP:20200706T092247Z
URL:https://frauenportal.koeln/veranstaltungen/wift-netzwerk-treffen-3/
SUMMARY:WIFT Netzwerk-Treffen
DESCRIPTION:WIFT Köln lädt herzlich zum traditionellen Jour Fixe ein. Der
  erste Jour Fixe in Zeiten von Corona und das im Freien! Treffpunkt ist vo
 r dem Römisch-Germanischen Museum am Roncalliplatz 4. Von dort wird am Rh
 ein spazieren gegangen und ein schönes Plätzchen gesucht.\n\nVeranstalte
 rin:\nWIFTG - Women in Film &amp\; Television Germany e.V.\, www.wiftg.de\
 n\nAnsprechpartnerinnen:\nCornelia Köhler\, E-Mail: corkoehler@web.de\n\n
 Kosten / Anmeldung:\nBitte Masken mitbringen. Eine Anmeldung ist nicht not
 wendig.\n\nVeranstaltungsort:\nRömisch-Germanisches Museum\, Roncalliplat
 z 4\, 50667 Köln\, [map id=915]
END:VEVENT
BEGIN:VTIMEZONE
TZID:Europe/Berlin
X-LIC-LOCATION:Europe/Berlin
BEGIN:DAYLIGHT
DTSTART:20200329T030000
TZOFFSETFROM:+0100
TZOFFSETTO:+0200
TZNAME:CEST
END:DAYLIGHT
END:VTIMEZONE
END:VCALENDAR