BEGIN:VCALENDAR
VERSION:2.0
PRODID:-//wp-events-plugin.com//7.2.3.1//EN
TZID:Europe/Berlin
X-WR-TIMEZONE:Europe/Berlin
BEGIN:VEVENT
UID:2454@frauenportal.koeln
DTSTART;TZID=Europe/Berlin:20191204T190000
DTEND;TZID=Europe/Berlin:20191204T210000
DTSTAMP:20191115T144900Z
URL:https://frauenportal.koeln/veranstaltungen/wift-netzwerk-treffen/
SUMMARY:WIFT Netzwerk-Treffen
DESCRIPTION:Bevor das Jahr 2019 zu Ende geht\, soll es noch einmal ein Tref
 fen geben zum lockeren Austauschen und Pläne für das neue Jahr Schmieden
 .\n\nAuch neue WIFT-Interessentinnen sind sehr herzlich willkommen!\n\nVer
 anstalterin:\nWIFTG - Women in Film &amp\; Television Germany e.V.\, www.w
 iftg.de\n\nAnsprechpartnerinnen:\nCornelia Köhler\, E-Mail: corkoehler@we
 b.de\n\nKosten / Anmeldung:\nFür WIFTG-Mitglieder ist der Eintritt kosten
 frei.\nFür alle anderen 15\,- Euro.\nUm Anmeldung unter koeln@wiftg.de wi
 rd gebeten.\n\nVeranstaltungsort:\nHallmackenreuther\, Brüsseler Platz 9\
 , 50674 Köln\, [map id=1033]
END:VEVENT
BEGIN:VTIMEZONE
TZID:Europe/Berlin
X-LIC-LOCATION:Europe/Berlin
BEGIN:STANDARD
DTSTART:20191027T020000
TZOFFSETFROM:+0200
TZOFFSETTO:+0100
TZNAME:CET
END:STANDARD
END:VTIMEZONE
END:VCALENDAR