BEGIN:VCALENDAR
VERSION:2.0
PRODID:-//wp-events-plugin.com//7.2.3.1//EN
TZID:Europe/Berlin
X-WR-TIMEZONE:Europe/Berlin
BEGIN:VEVENT
UID:1125@frauenportal.koeln
DTSTART;TZID=Europe/Berlin:20180613T190000
DTEND;TZID=Europe/Berlin:20180613T210000
DTSTAMP:20180531T134912Z
URL:https://frauenportal.koeln/veranstaltungen/wift-werkstattgespraech-ges
 chaeftsmodell-internetportal/
SUMMARY:WIFT Werkstattgespräch: Geschäftsmodell Internetportal
DESCRIPTION:WIFT-Mitglied und Autorin Susanne Amar schreibt über Jugendfu
 ßball und Schule in ihrem Blog http://ins-netz-gegangen.info\, Simone Br
 üggemann ist Geschäftsführerin von www.59plus.de - einem Webportal für
  Menschen über 59. Beide sind sehr erfolgreich und werden an diesem Abend
  über ihre Geschäftsidee\, ihre Zielgruppe und ihren Arbeitsalltag sprec
 hen. \n\nIm Anschluss gibt es natürlich Zeit zum Netzwerken.\n\nVeranstal
 terin:\nWIFTG - Women in Film &amp\; Television Germany e.V.\, www.wiftg.d
 e\n\nAnsprechpartnerinnen:\nCornelia Köhler\, E-Mail: corkoehler@web.de\n
 \nKosten / Anmeldung:\nFür WIFTG-Mitglieder ist der Eintritt kostenfrei.\
 nFür alle anderen 10\,- Euro.\nUm Anmeldung unter info@wiftg.de wird drin
 gend gebeten.\n\nVeranstaltungsort:\nCOWOKI Coworking plus\, Dorothee-Söl
 le-Platz 2\, 50672 Köln\, [map id=12647]
END:VEVENT
BEGIN:VTIMEZONE
TZID:Europe/Berlin
X-LIC-LOCATION:Europe/Berlin
BEGIN:DAYLIGHT
DTSTART:20180325T030000
TZOFFSETFROM:+0100
TZOFFSETTO:+0200
TZNAME:CEST
END:DAYLIGHT
END:VTIMEZONE
END:VCALENDAR