BEGIN:VCALENDAR
VERSION:2.0
PRODID:-//wp-events-plugin.com//7.2.3.1//EN
TZID:Europe/Berlin
X-WR-TIMEZONE:Europe/Berlin
BEGIN:VEVENT
UID:4673@frauenportal.koeln
DTSTART;TZID=Europe/Berlin:20240120T090000
DTEND;TZID=Europe/Berlin:20240120T170000
DTSTAMP:20240109T110004Z
URL:https://frauenportal.koeln/veranstaltungen/wirtschaftsweiber-auf-der-s
 ticks-stones-lgbtiq-job-messe/
SUMMARY:Wirtschaftsweiber auf der Sticks & Stones LGBTIQ+ Job-Messe
DESCRIPTION:Die Wirtschaftsweiber NRW haben einen Stand in der Community Ar
 ea. \nEine tolle Gelegenheit sie kennenzulernen\, Fragen zu stellen.\n\nUn
 d natürlich ist die Messe ein spannendes Event für alle\, die nach einer
  beruflichen Neuorientierung suchen: www.sticks-and-stones.com/sxs-kln/\n\
 nAm Samstagabend ab 19 Uhr gibt es dazu ein Closing Event im ST LOUIS in d
 er Meister-Gerhard-Straße 1\, 50674 Köln\, wo auch die Wirtschaftsweiber
  auch vertreten sein werden. Hierfür bitte rechtzeitig eines der begrenzt
 en Tickets (11\,38 €) sichern: www.sticks-and-stones.com/free-tickets/\n
 \nVeranstalterinnen:\nWirtschaftsweiber e.V. NRW\n\nKontakt:\nMaria Tilles
 sen\, Regionalkoordination\, E-Mail:\nnrw@wirtschaftsweiber.de
LOCATION:Palladium\, Schanzenstr. 36\, 51063 Köln
GEO:50.968343;7.015125
X-APPLE-STRUCTURED-LOCATION;VALUE=URI;X-ADDRESS=Schanzenstr. 36\, Köln\, N
 ordrhein-Westfalen\, 51063\, Veranstaltungsort\, Deutschland;X-APPLE-RADIU
 S=100;X-TITLE=Palladium:geo:50.968343,7.015125
END:VEVENT
BEGIN:VTIMEZONE
TZID:Europe/Berlin
X-LIC-LOCATION:Europe/Berlin
BEGIN:STANDARD
DTSTART:20231029T020000
TZOFFSETFROM:+0200
TZOFFSETTO:+0100
TZNAME:CET
END:STANDARD
END:VTIMEZONE
END:VCALENDAR