BEGIN:VCALENDAR
VERSION:2.0
PRODID:-//wp-events-plugin.com//7.2.3.1//EN
TZID:Europe/Berlin
X-WR-TIMEZONE:Europe/Berlin
BEGIN:VEVENT
UID:5640@frauenportal.koeln
DTSTART;TZID=Europe/Berlin:20250527T190000
DTEND;TZID=Europe/Berlin:20250527T203000
DTSTAMP:20250428T122741Z
URL:https://frauenportal.koeln/veranstaltungen/wirtschaftsweiber-gespraech
 -der-generationen/
SUMMARY:Wirtschaftsweiber: Gespräch der Generationen
DESCRIPTION:Es werden drei Generationen Wirtschaftsweiber ins Gespräch geb
 racht: Saskia Schulz\, die Zweitjüngste im Verein\, Ute Freimark\, die et
 wa in der Mitte ihres Berufslebens steht\, und Margarete Voll\, die bereit
 s im Ruhestand ist. Sie werden gefragt\, wie sie lesbisch/queer-Sein in de
 r Arbeitswelt wahrnehmen. Was ist ihr Selbstverständnis? Wie sehen sie di
 e Arbeitswelt heute und früher? Welche Erfahrungen haben sie gemacht? Dam
 it soll ein Auftakt gemacht werden\, um in unregelmäßigen Abständen die
 se Veranstaltungsreihe zu nutzen\, um die Vielfalt der Wirtschaftsweiber z
 u erleben und zu feiern. Herzliche Einladung\, die Frauen kennenzulernen\,
  mitzureflektieren und ins Gespräch zu kommen.\n\nVeranstaltende:\nWirtsc
 haftsweiber e.V. NRW\n\nAnsprechpartnerinnen:\nMaria Tillessen und Kerstin
  Bierbrauer\, E-Mail:\nnrw@wirtschaftsweiber.de\n\nAnmeldung:\nAnmeldungen
  werden erbeten unter E-Mail:\ninfo@wirtschaftsweiber.de\n\nVeranstaltungo
 rt:\nonline\n
END:VEVENT
BEGIN:VTIMEZONE
TZID:Europe/Berlin
X-LIC-LOCATION:Europe/Berlin
BEGIN:DAYLIGHT
DTSTART:20250330T030000
TZOFFSETFROM:+0100
TZOFFSETTO:+0200
TZNAME:CEST
END:DAYLIGHT
END:VTIMEZONE
END:VCALENDAR