BEGIN:VCALENDAR
VERSION:2.0
PRODID:-//wp-events-plugin.com//7.2.3.1//EN
TZID:Europe/Berlin
X-WR-TIMEZONE:Europe/Berlin
BEGIN:VEVENT
UID:5172@frauenportal.koeln
DTSTART;TZID=Europe/Berlin:20241030T170000
DTEND;TZID=Europe/Berlin:20241030T190000
DTSTAMP:20240828T144841Z
URL:https://frauenportal.koeln/veranstaltungen/workshop-consent-nur-ja-hei
 sst-ja-7/
SUMMARY:Workshop "Consent: Nur Ja heisst Ja"
DESCRIPTION:In diesem Workshop gibt es die Gelegenheit\, sich mit dem Thema
  Consent in geschützter Atmosphäre auseinanderzusetzen. Der Workshop erf
 ordert keine Vorerfahrungen und die eigenen Grenzen werden gewahrt. Es geh
 t um einen Austausch über das Thema Consent und persönliche Auseinanders
 etzungsprozesse in diesem Bereich:\n\n\n    	Was ist Consent?\n   	 Warum 
 ist Consent wichtig?\n   	 Wie sensibilisieren wir uns selbst und andere i
 m Bereich Consent?\n    	Wie können hilfreiche Umgangsweisen aussehen\, w
 elche Empowerment-Strategien wünschen wir uns?\n\n\nLeitung:\nSvenja Haas
 \, Stephanie Lange – Mitarbeiterinnen der Frauenberatungsstelle\n\nVeran
 stalterin:\nFrauenLeben e.V. Köln\, Frauenberatungsstelle\n\nAnsprechpart
 nerin:\nMargret Schnetgöke\, Tel.: 0221 / 954 16 60\, E-Mail: \nmail@frau
 enleben.org\n&nbsp\;\nKosten / Anmeldung:\nAnmeldung erforderlich. Das Ang
 ebot ist kostenfrei.
LOCATION:FrauenLeben\, Venloer Str. 405-407\, 50825 Köln
GEO:50.95189;6.91379
X-APPLE-STRUCTURED-LOCATION;VALUE=URI;X-ADDRESS=Venloer Str. 405-407\, Köl
 n\, 50825\, Frauenorganisation\, Deutschland;X-APPLE-RADIUS=100;X-TITLE=Fr
 auenLeben:geo:50.95189,6.91379
END:VEVENT
BEGIN:VTIMEZONE
TZID:Europe/Berlin
X-LIC-LOCATION:Europe/Berlin
BEGIN:STANDARD
DTSTART:20241027T020000
TZOFFSETFROM:+0200
TZOFFSETTO:+0100
TZNAME:CET
END:STANDARD
END:VTIMEZONE
END:VCALENDAR