BEGIN:VCALENDAR
VERSION:2.0
PRODID:-//wp-events-plugin.com//7.2.3.1//EN
TZID:Europe/Berlin
X-WR-TIMEZONE:Europe/Berlin
BEGIN:VEVENT
UID:1766@frauenportal.koeln
DTSTART;TZID=Europe/Berlin:20190626T090000
DTEND;TZID=Europe/Berlin:20190626T120000
DTSTAMP:20190131T173621Z
URL:https://frauenportal.koeln/veranstaltungen/workshop-fuer-den-wiederein
 stieg-erfolgreich-neu-durchstarten-2/
SUMMARY:Workshop für den Wiedereinstieg - Erfolgreich neu durchstarten
DESCRIPTION:Der Workshop bietet Unterstützung\, wie die eigene Strategie f
 ür den beruflichen Wiedereinstieg aktiv entwickelt werden kann. Gleichzei
 tig gibt es Informationen zu den Angebote die Agentur für Arbeit für den
  Wiedereinstieg in die Erwerbsarbeit.\n\nVeranstalterin:\nBeauftragte für
  Chancengleichheit am Arbeitsmarkt der Agentur für Arbeit Köln\n\nAnspre
 chpartnerin:\nAgnes Metz\, Tel.: 0221/ 9429-5400\, E-Mail: Koeln.BCA@arbei
 tsagentur.de\n\nKosten / Anmeldung:\nEingeladen sind alle interessierten F
 rauen – und auch Männer –\, die nach einer Familienpause wieder in de
 n Beruf zurückkehren möchten. Um Anmeldung per Mail wird gebeten unter: 
 koeln.wiedereinstieg@arbeitsagentur.de Die Teilnahme ist kostenfrei.\n\nVe
 ranstaltungsort:\nVHS Studienhaus am Neumarkt (Raum an Info erfragen)\, C
 äcilienstr. 35\, 50667 Köln\, [map id=1181]
END:VEVENT
BEGIN:VTIMEZONE
TZID:Europe/Berlin
X-LIC-LOCATION:Europe/Berlin
BEGIN:DAYLIGHT
DTSTART:20190331T030000
TZOFFSETFROM:+0100
TZOFFSETTO:+0200
TZNAME:CEST
END:DAYLIGHT
END:VTIMEZONE
END:VCALENDAR