BEGIN:VCALENDAR
VERSION:2.0
PRODID:-//wp-events-plugin.com//7.2.3.1//EN
TZID:Europe/Berlin
X-WR-TIMEZONE:Europe/Berlin
BEGIN:VEVENT
UID:2534@frauenportal.koeln
DTSTART;TZID=Europe/Berlin:20201104T090000
DTEND;TZID=Europe/Berlin:20201104T120000
DTSTAMP:20201028T091100Z
URL:https://frauenportal.koeln/veranstaltungen/workshop-fuer-den-wiederein
 stieg-erfolgreich-neu-durchstarten-5/
SUMMARY:Workshop für den Wiedereinstieg - Erfolgreich neu durchstarten
DESCRIPTION:Der Termin findet nicht statt.\n\nDer Workshop bietet Unterstü
 tzung\, wie die eigene Strategie für den beruflichen Wiedereinstieg aktiv
  entwickelt werden kann. Gleichzeitig gibt es Informationen zu den Angebot
 e die Agentur für Arbeit für den Wiedereinstieg in die Erwerbsarbeit.\n\
 nVeranstalterin:\nBeauftragte für Chancengleichheit am Arbeitsmarkt der A
 gentur für Arbeit Köln\n\nAnsprechpartnerin:\nAgnes Metz\, Tel.: 0221/ 9
 429-5400\, E-Mail: Koeln.BCA@arbeitsagentur.de\n\nKosten / Anmeldung:\nEin
 geladen sind alle interessierten Frauen – und auch Männer –\, die nac
 h einer Familienpause wieder in den Beruf zurückkehren möchten. Um Anmel
 dung per Mail wird gebeten unter: koeln.wiedereinstieg@arbeitsagentur.de D
 ie Teilnahme ist kostenfrei.\n\nVeranstaltungsort:\nVHS Studienhaus am Neu
 markt (Raum an Info erfragen)\, Cäcilienstr. 35\, 50667 Köln\, [map id=1
 181]
END:VEVENT
BEGIN:VTIMEZONE
TZID:Europe/Berlin
X-LIC-LOCATION:Europe/Berlin
BEGIN:STANDARD
DTSTART:20201025T020000
TZOFFSETFROM:+0200
TZOFFSETTO:+0100
TZNAME:CET
END:STANDARD
END:VTIMEZONE
END:VCALENDAR