BEGIN:VCALENDAR
VERSION:2.0
PRODID:-//wp-events-plugin.com//7.2.3.1//EN
TZID:Europe/Berlin
X-WR-TIMEZONE:Europe/Berlin
BEGIN:VEVENT
UID:4231@frauenportal.koeln
DTSTART;TZID=Europe/Berlin:20230327T160000
DTEND;TZID=Europe/Berlin:20230327T180000
DTSTAMP:20230228T123956Z
URL:https://frauenportal.koeln/veranstaltungen/workshop-pflanzenwelt-makro
 -fotografie-3/
SUMMARY:Workshop Pflanzenwelt / Makro-Fotografie
DESCRIPTION:Rebecca Lenz zu ihrem Angebot:\n\n"Du fotografierst mit Leidens
 chaft die Natur und möchtest die Pflanzenwelt aus einem anderen Blickwink
 el kennenlernen? In diesem Workshop lernst Du\, wie Du Blumen und andere P
 flanzen richtig in Szene setzt sowie kleinste Details in den Fokus rücken
  kannst.\n\nDer Workshop richtet sich rein an Frauen und findet in einem k
 leinen Rahmen mit bis zu max. 4 Teilnehmerinnen statt.\n\nDie Kursgebühr 
 beträgt 75 EUR.\nVeranstaltungsort ist Leverkusen.\n\nMehr Informationen 
 und Anmeldung unter: https://rlenzphoto.de/workshops/pflanzen-makro/ &quot
 \;
END:VEVENT
BEGIN:VTIMEZONE
TZID:Europe/Berlin
X-LIC-LOCATION:Europe/Berlin
BEGIN:DAYLIGHT
DTSTART:20230326T030000
TZOFFSETFROM:+0100
TZOFFSETTO:+0200
TZNAME:CEST
END:DAYLIGHT
END:VTIMEZONE
END:VCALENDAR