BEGIN:VCALENDAR
VERSION:2.0
PRODID:-//wp-events-plugin.com//7.2.3.1//EN
TZID:Europe/Berlin
X-WR-TIMEZONE:Europe/Berlin
BEGIN:VEVENT
UID:2627@frauenportal.koeln
DTSTART;TZID=Europe/Berlin:20200227T190000
DTEND;TZID=Europe/Berlin:20200227T210000
DTSTAMP:20200131T140002Z
URL:https://frauenportal.koeln/veranstaltungen/yes-i-can-nlp-info-workshop
 -3/
SUMMARY:Yes\, I Can! – NLP-Info-Workshop
DESCRIPTION:Jenison Thomkins zu ihrem Angebot:\n\n"Motivationsstrategien.\n
 \nMich selbst Antreiben – ohne getrieben zu sein! Authentische Motivatio
 n im Flow!\n\nBarack Obama hat es Amerika vorgemacht: Yes we can. Wir kön
 nen viel mehr\, als wir glauben! Mithilfe der vier-poligen Motivations-Str
 ategie kommen Sie Ihren Antreibern und hindernden Glaubenssätzen auf die 
 Spur und können sich neu sortiert kraftvoll auf Ihre Ziele ausrichten.\n\
 nWie’s leicht gelingt\, erfahren Sie an diesem Abend im NLP-Info-Worksho
 p!\n\nKostenloser Info Workshop zu allen Veranstaltungen im Atelier!\n\nF
 ür alle Practitioner-\, Master- und 4D-Typologie-Interessierten ist diese
 r Abend eine gute Gelegenheit\, sich über meine Arbeit und alle anderen 
 Fragen bezüglich der Ausbildungen und Bildungsurlaube der kommenden Zeit 
  zu informieren!\n\nWas geschieht beim NLP-Info-Workshop?\n\n 	Ankommen\,
  Kaffee und Tee trinken\n 	Trainer\, Assistent-Innen und andere nette Mens
 chen kennenlernen\n 	theoretische Einführung ins NLP-Thema\n 	Praktische 
 Übung mit persönlichem Feedback\n 	allgemeine Infos zu NLP und den aktue
 llen Ausbildungen und Workshops im Atelier für NLP&amp\;Persönlichkeitse
 ntwicklung\n\nDu bist an diesem Abend verhindert\, möchtest dich aber üb
 er das Jahresprogramm informieren? Gern lade ich dich zu allen weiteren In
 fo-Workshops ein\, und bring deine Freunde/Partner/Familie mit!"\n\nMehr I
 nfos und Anmeldung bei: Jenison Thomkins
END:VEVENT
BEGIN:VTIMEZONE
TZID:Europe/Berlin
X-LIC-LOCATION:Europe/Berlin
BEGIN:STANDARD
DTSTART:20191027T020000
TZOFFSETFROM:+0200
TZOFFSETTO:+0100
TZNAME:CET
END:STANDARD
END:VTIMEZONE
END:VCALENDAR