BEGIN:VCALENDAR
VERSION:2.0
PRODID:-//wp-events-plugin.com//7.2.3.1//EN
TZID:Europe/Berlin
X-WR-TIMEZONE:Europe/Berlin
BEGIN:VEVENT
UID:3720@frauenportal.koeln
DTSTART;TZID=Europe/Berlin:20220421T193000
DTEND;TZID=Europe/Berlin:20220421T210000
DTSTAMP:20220419T095721Z
URL:https://frauenportal.koeln/veranstaltungen/young-bpw-im-bpw-club-koeln
 -getinspired-10/
SUMMARY:Young BPW im BPW Club Köln: GetInspired!
DESCRIPTION:– Finde deine innere Leaderin! –\n \nUnsere innere Stimme i
 st oft eine gute Beraterin. Doch wie kann man sie finden und was kann sie 
 über einen selbst aussagen? Jessica vom Hagen unterstützt leidenschaftli
 ch im Bereich „Human Ressources / Personalentwicklung“ Menschen auch b
 eruflich dabei\, sich selbst und ihre Potenziale zu entfalten.\n\nVeransta
 lterin:\nBPW Germany Club Köln\n\nAnsprechpartnerin:\nLisa Schrade-Grytse
 nko\, E-Mail: bpw-koeln@web.de\n\nKosten /Anmeldung:\nKostenbeitrag: 9 Eur
 o. Für Mitglieder ist die Teilnahme kostenlos.\nHier ist der Anmeldelink:
  www.eventbrite.de/e/302269294597\n\nVeranstaltungsort:\nonline
END:VEVENT
BEGIN:VTIMEZONE
TZID:Europe/Berlin
X-LIC-LOCATION:Europe/Berlin
BEGIN:DAYLIGHT
DTSTART:20220327T030000
TZOFFSETFROM:+0100
TZOFFSETTO:+0200
TZNAME:CEST
END:DAYLIGHT
END:VTIMEZONE
END:VCALENDAR