BEGIN:VCALENDAR
VERSION:2.0
PRODID:-//wp-events-plugin.com//7.2.3.1//EN
TZID:Europe/Berlin
X-WR-TIMEZONE:Europe/Berlin
BEGIN:VEVENT
UID:1366@frauenportal.koeln
DTSTART;TZID=Europe/Berlin:20181212T183000
DTEND;TZID=Europe/Berlin:20181212T213000
DTSTAMP:20181202T125947Z
URL:https://frauenportal.koeln/veranstaltungen/young-bpw-im-bpw-club-koeln
 -getinspired-4/
SUMMARY:Young BPW im BPW Club Köln: GetInspired!
DESCRIPTION:- Vortrag “Networking at its best” mit Ute Blindert\, Netzw
 erkbooster -\n\nAus der Einladung:\n\n"kennt ihr eure digitale Reichweite 
 oder wisst ihr\, wie ihr Social Media\nnutzen könnt\, um eure Karriere zu
  pushen? Ute Blindert verrät euch in\ndiesem GetInspired-Workshop ihre Ti
 pps fürs Netzwerken in digitalen\nZeiten und mehr Sichtbarkeit im richtig
 en Leben.\n\nAls Beraterin und Autorin des Buches 'Per Netzwerk zum Job: I
 nsider\nzeigen\, wie du deine Träume verwirklichen kannst' hat sich Ute m
 it Leib\nund Seele dem Thema Networking verschrieben. Sie selbst ist sowoh
 l im\nberuflichen als auch privaten Kontext engagierte Netzwerkerin\, unte
 r\nanderem als Mitglied der Digital Media Women.\n\nWunderbar passend zum 
 Thema des Vortrags ist auch die Location: Wir sind\nzu Gast im akkuraum in
  Köln. akkuraum ist ein offener Workspace 'für\nalle\, die die digitale 
 Zukunft mitgestalten wollen'. Wer weiß\, welche\ninteressanten neuen Kont
 akte ihr hier direkt machen könnt?!\n\nDAS ERWARTET EUCH:\n19:00 Ankunft 
 und Begrüßung\n19:30-20:30 Vortrag 'Networking at its best - alles bleib
 t… anders'\, Ute Blindert\n20:30-21:30 Zeit für Diskussion und Netzwerk
 en"\n\nReferentin:\nUte Blindert\, Digital Media Women. www.digitalmediawo
 men.de\n\nVeranstalterin:\nBPW Germany Club Köln\n\nAnsprechpartnerin:\nB
 eatrix von Rantzau & Maja Bohlen\, E-Mail: young-bpw@bpw-koeln.de\n\nKoste
 n / Anmeldung:\nFür BPW-Mitglieder ist die Veranstaltung kostenlos\; Inte
 ressentinnen zahlen 10 Euro. Um Anmeldung wird gebeten!\n\nVeranstaltungso
 rt:\nakkuraum Coworking Space\, Krefelder Str. 18c\, 50670 Köln\, [map id
 =13705]
END:VEVENT
BEGIN:VTIMEZONE
TZID:Europe/Berlin
X-LIC-LOCATION:Europe/Berlin
BEGIN:STANDARD
DTSTART:20181028T020000
TZOFFSETFROM:+0200
TZOFFSETTO:+0100
TZNAME:CET
END:STANDARD
END:VTIMEZONE
END:VCALENDAR