BEGIN:VCALENDAR
VERSION:2.0
PRODID:-//wp-events-plugin.com//7.2.3.1//EN
TZID:Europe/Berlin
X-WR-TIMEZONE:Europe/Berlin
BEGIN:VEVENT
UID:2049@frauenportal.koeln
DTSTART;TZID=Europe/Berlin:20190828T174500
DTEND;TZID=Europe/Berlin:20190828T203000
DTSTAMP:20190815T075913Z
URL:https://frauenportal.koeln/veranstaltungen/young-bpw-im-bpw-club-koeln
 -getinspired-6/
SUMMARY:Young BPW im BPW Club Köln: GetInspired!
DESCRIPTION:Aus der Einladung:\n\n"Privatleben\, Familie\, Karriere: “I w
 ant it all” – Über die Herausforderung und die Erfüllung\, alles zu 
 haben\n\n„Sinn“ und „Selbstbestimmung“ sind zwei wesentliche Aspek
 te von „New Work“. Für viele von uns gilt das jedoch nicht nur für u
 nseren Anspruch an unsere Arbeit\, sondern auch für unser Leben allgemein
 . Job\, Hobbies\, Familie\, Freunde\, Ehrenamt – so viele Dinge sind uns
  wichtig. Keines davon soll zu kurz kommen. Das ist im Alltag herausforder
 nd\, manchmal stressig. Aber wenn der Balanceakt gelingt\, trägt er zu ei
 ner großen Zufriedenheit bei.\n\nBei diesem GetInspired dreht sich alles 
 um das Thema Work-Life-Balance. Im Panel begrüßen wir verschiedene Pers
 önlichkeiten\, die uns mit ihren persönlichen Erfahrungen und Lebensmode
 llen Denkanstöße zu diesem Thema geben. Wer aus dem Publikum Fragen hat 
 oder mitdiskutieren möchte\, nimmt einfach im „Fishbowl“ Platz.\n\nZu
  Gast sind wir dieses Mal bei ROLAND Rechtsschutz in Köln-Deutz.\n\nDas e
 rwartet euch:\nab 17:45 Ankunft\n18:15-20:00 Fishbowl zum Thema Work-Life-
 Balance\nab 20:00 Netzwerken und Ausklang "\n\nVeranstalterin:\nBPW German
 y Club Köln\n\nAnsprechpartnerin:\nBeatrix von Rantzau &amp\; Maja Bohlen
 \, E-Mail: young-bpw@bpw-koeln.de\n\nKosten / Anmeldung:\nFür BPW-Mitglie
 der ist die Veranstaltung kostenlos\; Interessentinnen zahlen 15 Euro. Um 
 Anmeldung wird gebeten!\n\nVeranstaltungsort:\nROLAND Rechtsschutz\, Deutz
 -Kalker Str. 46\, 50679 Köln
END:VEVENT
BEGIN:VTIMEZONE
TZID:Europe/Berlin
X-LIC-LOCATION:Europe/Berlin
BEGIN:DAYLIGHT
DTSTART:20190331T030000
TZOFFSETFROM:+0100
TZOFFSETTO:+0200
TZNAME:CEST
END:DAYLIGHT
END:VTIMEZONE
END:VCALENDAR