BEGIN:VCALENDAR
VERSION:2.0
PRODID:-//wp-events-plugin.com//7.2.3.1//EN
TZID:Europe/Berlin
X-WR-TIMEZONE:Europe/Berlin
BEGIN:VEVENT
UID:3323@frauenportal.koeln
DTSTART;TZID=Europe/Berlin:20210930T190000
DTEND;TZID=Europe/Berlin:20210930T220000
DTSTAMP:20210914T090745Z
URL:https://frauenportal.koeln/veranstaltungen/young-bpw-im-bpw-club-koeln
 -getinspired-8/
SUMMARY:Young BPW im BPW Club Köln: GetInspired!
DESCRIPTION:– Quereinsteigerin? Digitalisierung? –\n\nAus der Einladung
 :\n\n"Digitalisierung ist nicht mehr wegzudenken und betrifft alle Bereich
 e des Lebens – am Arbeitsplatz und privat. Jede:r von uns hat über das 
 vergangene Jahr Digitalisierung miterlebt und all die Vorteile nutzen kön
 nen. Wer wagt nun den Sprung in der IT-Welt zu arbeiten? Gemeinsam vernetz
 en wird uns\, hören persönliche Beispiele und diskutieren worauf es anko
 mmt beim (Quer)einstieg in die digitale Welt."\n\nReferentin:\nTeresa Wies
 mann\n\nVeranstalterin:\nBPW Germany Club Köln\n\nAnsprechpartnerin:\nLis
 a Schrade-Grytsenko\, E-Mail: bpw-koeln@web.de\n\nKosten /Anmeldung:\nMitg
 lieder frei\, Interessentinnen 15 Euro. Anmeldung bis 27. September für I
 nteressentinnen unter https://www.eventbrite.de/e/170404099248\n\nVeransta
 ltungsort:\nOkandada Co-Working\, Hohenzollernring 16-18\, 50672 Köln\, [
 map id=16713]
END:VEVENT
BEGIN:VTIMEZONE
TZID:Europe/Berlin
X-LIC-LOCATION:Europe/Berlin
BEGIN:DAYLIGHT
DTSTART:20210328T030000
TZOFFSETFROM:+0100
TZOFFSETTO:+0200
TZNAME:CEST
END:DAYLIGHT
END:VTIMEZONE
END:VCALENDAR