BEGIN:VCALENDAR
VERSION:2.0
PRODID:-//wp-events-plugin.com//7.2.3.1//EN
TZID:Europe/Berlin
X-WR-TIMEZONE:Europe/Berlin
BEGIN:VEVENT
UID:2431@frauenportal.koeln
DTSTART;TZID=Europe/Berlin:20191110T180000
DTEND;TZID=Europe/Berlin:20191110T200000
DTSTAMP:20191030T193938Z
URL:https://frauenportal.koeln/veranstaltungen/zambalas-auffuehrung-rondel
 l/
SUMMARY:Zambalas Aufführung "Rondell"
DESCRIPTION:die Zambalas kommen ….\n\nSzenenspiele\, lebensnah und voller
  Überraschungen\; die der Fantasie viel Raum lassen und gleichzeitig den 
 kritischen Hintergrund nicht verbergen – das sind die Zambalas\, eine Cl
 owninnengruppe\, bestehend aus Frauen der ClownsZeit Köln.\n\nUnter der R
 egie von Denise May begeben sich die Charakter-Clowninnen in ihrem neuen S
 tück  “Rondel “ auf Entdeckungsreise. Die ewig andauernde Suche nach 
 Erkenntniss und Glück in der Begegnung und Beziehung\, wird von den Clown
 innen bespielt. Auch die sich wiederholenden Beziehungsverluste\, wie auch
  die aktuellen im globalen Zusammenhang\, kommen unter die clowneske Lupe.
 \n\nMal temperamentvoll und gar übermütig\, dann wieder besinnlich und m
 itunter auch melancholisch\, aber stets herzlich und spontan zeigen die Za
 mbalas in ihrem Szenenspiel auf\, was jederfrau / jedermann unter den Näg
 eln brennt. In liebenswerter\, überzogen-skurriler Art\, ohne den Zeigefi
 nger zu heben.\n\nOrt: Bürgerhaus Kalk\, Kalk-Mülheimer Str. 58\, 51103 
 Köln\n\nZeit: 18.00-20.00 Uhr\, (mit Pause von 20 Minuten) Einlass 17.45 
 Uhr\n\nEintritt: 12\,00 Euro bei online Bestellung: www.die-zambalas.de/ev
 ents/rondell-2\n15\,00 Euro an der Abendkasse\, ab 17.30 Uhr              
                                                                           
      Für Kinder bis 12 Jahre ist der Eintritt frei.
END:VEVENT
BEGIN:VTIMEZONE
TZID:Europe/Berlin
X-LIC-LOCATION:Europe/Berlin
BEGIN:STANDARD
DTSTART:20191027T020000
TZOFFSETFROM:+0200
TZOFFSETTO:+0100
TZNAME:CET
END:STANDARD
END:VTIMEZONE
END:VCALENDAR