BEGIN:VCALENDAR
VERSION:2.0
PRODID:-//wp-events-plugin.com//7.2.3.1//EN
TZID:Europe/Berlin
X-WR-TIMEZONE:Europe/Berlin
BEGIN:VEVENT
UID:2136@frauenportal.koeln
DTSTART;TZID=Europe/Berlin:20191110T180000
DTEND;TZID=Europe/Berlin:20191110T193000
DTSTAMP:20210228T084516Z
URL:https://frauenportal.koeln/veranstaltungen/zeit-fuer-dich-gottesdienst
 -von-frauen-fuer-frauen-3/
SUMMARY:Zeit für Dich – Gottesdienst von Frauen für Frauen
DESCRIPTION:„Stille“ \n\nNovember – Pflanzen und Tiere ziehen sich in
  die Winterruhe zurück und auch uns Menschen wird der allgegenwärtige L
 ärm zu viel. Auch wir haben den Wunsch\, einmal zur Ruhe zu kommen. Dem B
 edürfnis nach Stille soll in diesem Frauengottesdienst Raum gegeben werde
 n. Er wird gestaltet von Pfarrerin Almuth Voß und dem Zeit-für-Dich-Team
 . \n\nIm Anschluss gibt es wieder die Gelegenheit\, sich bei Tee und Knabb
 ereien am Stehtisch auszutauschen.\n\nVeranstalterin:\nZeit für dich – 
 Gottesdienste von Frauen für Frauen\, \nein Angebot der ev. Kirchengemein
 de Buchheim-Buchforst\, www.ekibubu.de\n\nAnsprechpartnerin:\nA. Mehren\, 
 E-Mail: frauengottesdienst@kirche-koeln.de\nTel.: 0221 / 691888\, Ev. Geme
 indebüro Buchheim-Buchforst\n\nVeranstaltungsort:\nAuferstehungskirche in
  Buchforst\, Kopernikusstr. 34\, 51065 Köln\, [map id=1027]
END:VEVENT
BEGIN:VTIMEZONE
TZID:Europe/Berlin
X-LIC-LOCATION:Europe/Berlin
BEGIN:STANDARD
DTSTART:20191027T020000
TZOFFSETFROM:+0200
TZOFFSETTO:+0100
TZNAME:CET
END:STANDARD
END:VTIMEZONE
END:VCALENDAR