BEGIN:VCALENDAR
VERSION:2.0
PRODID:-//wp-events-plugin.com//7.2.3.1//EN
TZID:Europe/Berlin
X-WR-TIMEZONE:Europe/Berlin
BEGIN:VEVENT
UID:3185@frauenportal.koeln
DTSTART;TZID=Europe/Berlin:20210314T180000
DTEND;TZID=Europe/Berlin:20210314T193000
DTSTAMP:20210228T091934Z
URL:https://frauenportal.koeln/veranstaltungen/zeit-fuer-dich-gottesdienst
 -von-frauen-fuer-frauen-7/
SUMMARY:Zeit für Dich – Gottesdienst von Frauen für Frauen
DESCRIPTION:„Die listige Rettung“\n\nMit List und Tatkraft gelingt es F
 rauen im alten Ägypten\, ein Kind zu retten. Eigentlich war es dem Tode g
 eweiht. Was hat die Frauen dazu bewegt\, sich über Standes- und Glaubensg
 renzen hinweg der göttlichen Obrigkeit\, dem Pharao zu widersetzen? Das Z
 eit-für-Dich Team und Prädikantin Sigrid Halbe wollen diesen Fragen im P
 räsenzgottesdienst in der Auferstehungskirche in Buchforst auf den Grund 
 gehen.\n\nUm Sie und uns zu schützen\, verzichten wir auf die Diskussion 
 am Stehtisch. Bitte denken Sie an Ihre Schutzmaske.\n\nVeranstalterin:\nZe
 it für dich – Gottesdienste von Frauen für Frauen\, \nein Angebot der 
 ev. Kirchengemeinde Buchheim-Buchforst\, www.ekibubu.de\n\nAnsprechpartner
 in:\nA. Mehren\, E-Mail: frauengottesdienst@kirche-koeln.de\nTel.: 0221 / 
 691888\, Ev. Gemeindebüro Buchheim-Buchforst\n\nVeranstaltungsort:\nAufer
 stehungskirche in Buchforst\, Kopernikusstr. 34\, 51065 Köln\, [map id=10
 27]
END:VEVENT
BEGIN:VTIMEZONE
TZID:Europe/Berlin
X-LIC-LOCATION:Europe/Berlin
BEGIN:STANDARD
DTSTART:20201025T020000
TZOFFSETFROM:+0200
TZOFFSETTO:+0100
TZNAME:CET
END:STANDARD
END:VTIMEZONE
END:VCALENDAR