BEGIN:VCALENDAR
VERSION:2.0
PRODID:-//wp-events-plugin.com//7.2.3.1//EN
TZID:Europe/Berlin
X-WR-TIMEZONE:Europe/Berlin
BEGIN:VEVENT
UID:3236@frauenportal.koeln
DTSTART;TZID=Europe/Berlin:20210509T180000
DTEND;TZID=Europe/Berlin:20210509T190000
DTSTAMP:20210430T094426Z
URL:https://frauenportal.koeln/veranstaltungen/zeit-fuer-dich-gottesdienst
 -von-frauen-fuer-frauen-8/
SUMMARY:Zeit für Dich – Gottesdienst von Frauen für Frauen
DESCRIPTION:„Zeit für Dich – FreiRäume entdecken“\n\nDas Zeit-für-
 Dich Team blickt zurück auf 9 Jahre Frauengottesdienste in Buchforst. "Wa
 s hat uns bewegt\, was bewegt uns noch immer und was haben wir auf unseren
  Reisen durch die Bibel gelernt?" Gemeinsam mit Superintendentin Andrea Vo
 gel sollen die (Frei)Räume noch einmal betreten werden\, die dabei gefund
 en wurden. \n\nPräsenzgottesdienst\, Anmeldung erforderlich unter: info@z
 eitfuerdich-koeln.de\n\nVeranstalterin:\nZeit für dich – Gottesdienste 
 von Frauen für Frauen\, \nein Angebot der ev. Kirchengemeinde Buchheim-Bu
 chforst\, www.ekibubu.de\n\nAnsprechpartnerin:\nA. Mehren\, E-Mail: info@z
 eitfuerdich-koeln.de\nTel.: 0221 / 691888\, Ev. Gemeindebüro Buchheim-Buc
 hforst\n\nVeranstaltungsort:\nAuferstehungskirche in Buchforst\, Koperniku
 sstr. 34\, 51065 Köln\, [map id=1027]
END:VEVENT
BEGIN:VTIMEZONE
TZID:Europe/Berlin
X-LIC-LOCATION:Europe/Berlin
BEGIN:DAYLIGHT
DTSTART:20210328T030000
TZOFFSETFROM:+0100
TZOFFSETTO:+0200
TZNAME:CEST
END:DAYLIGHT
END:VTIMEZONE
END:VCALENDAR