BEGIN:VCALENDAR
VERSION:2.0
PRODID:-//wp-events-plugin.com//7.2.3.1//EN
TZID:Europe/Berlin
X-WR-TIMEZONE:Europe/Berlin
BEGIN:VEVENT
UID:2539@frauenportal.koeln
DTSTART;TZID=Europe/Berlin:20200118T093000
DTEND;TZID=Europe/Berlin:20200118T160000
DTSTAMP:20200107T101846Z
URL:https://frauenportal.koeln/veranstaltungen/zentraler-oekumenischer-stu
 dientag-zum-weltgebetstag-2020/
SUMMARY:Zentraler ökumenischer Studientag zum Weltgebetstag 2020
DESCRIPTION:Jedes Jahr am ersten Freitag im März feiern Christinnen in all
 er Welt den „Weltgebetstag der Frauen“. Die ökumenische Gottesdienst-
 Liturgie für 2020 unter dem Titel „Steh auf und geh!“ wurde von Fraue
 n aus Simbabwe erarbeitet.\n\nDazu findet am Samstag\, dem 18. Januar 2020
  der zentrale Vortragsstudientag zu diesem afrikanischen Schwerpunktland s
 tatt. Evangelische und katholische Fachreferentinnen geben von 9.30 bis 16
  Uhr einen Überblick über Geschichte\, Kultur und soziale Situation. Wei
 ter stehen Gestaltungsideen für die Gottesdienste am 6. März 2020 und In
 formation zur Unterschriftenaktion „Gesundheit statt Schulden“ zum Sch
 uldenerlass für Simbabwe auf dem Programm.\n\nDie Veranstaltung richtet s
 ich an Multiplikatorinnen\, Veranstalterinnen der Gottesdienste und andere
  interessierte Frauen.\n\nVeranstalterin:\nFrauenreferat und Frauenbeauftr
 agte der Ev. Kirche in Köln\n\nAnsprechpartnerin:\nAlmuth Voss\, Tel. 022
 1 / 680733\n\nKosten / Anmeldung:\n10 Euro inklusive Verpflegung und Mater
 ial.\nUm Anmeldung wird gebeten bei Almuth Voss\, Tel: 0221-6807331\, oder
  per Mail: Hildegard.Wachten@koeln.de\n\nVeranstaltungsort:\nIN VIA Köln 
 e.V.\, Stolzestr. 1a\, 50674 Köln\, [map id=12304]
END:VEVENT
BEGIN:VTIMEZONE
TZID:Europe/Berlin
X-LIC-LOCATION:Europe/Berlin
BEGIN:STANDARD
DTSTART:20191027T020000
TZOFFSETFROM:+0200
TZOFFSETTO:+0100
TZNAME:CET
END:STANDARD
END:VTIMEZONE
END:VCALENDAR