BEGIN:VCALENDAR
VERSION:2.0
PRODID:-//wp-events-plugin.com//7.2.3.1//EN
TZID:Europe/Berlin
X-WR-TIMEZONE:Europe/Berlin
BEGIN:VEVENT
UID:4628@frauenportal.koeln
DTSTART;TZID=Europe/Berlin:20240113T093000
DTEND;TZID=Europe/Berlin:20240113T153000
DTSTAMP:20240102T132751Z
URL:https://frauenportal.koeln/veranstaltungen/zentraler-oekumenischer-stu
 dientag-zum-weltgebetstag-2023/
SUMMARY:Zentraler ökumenischer Studientag zum Weltgebetstag 2023
DESCRIPTION:„Ich bitte euch… ertragt einander in Liebe“ (Eph 4\, 1 ff
 ) – so heißt das Motto des Weltgebetstages 2024\, der genau nach 30 Jah
 ren wieder aus Palästina kommt. Es sind große Worte angesichts des jahrz
 ehntelangen Konflikts. 16 Projektpartnerinnen aus Israel und Palästina ha
 ben die Gottesdienstordnung zusammengestellt. \n\nBei der gemeinsamen Vorb
 ereitung auf den diesjährigen Weltgebetstag geht es um Land & Leute\, Fra
 uenleben & Frauenprojekte sowie verschiedene Gottesdienstideen. Inhaltlich
 e Gestaltung: Birgit Baumann\, Ulrike Schalenbach. Musikalische Gestaltung
 : Barbara Bannasch\, Dagmar Nikolin.\n\nVeranstalterinnen:\nFrauenreferat 
 der Evangelischen Kirche in Köln\nKatholische Frauengemeinschaft Deutschl
 ands (kfd)\, Diözesanverband Köln e.V.\n\nAnsprechpartnerin:\nAlmuth Vos
 s\, Tel. 0221 / 6807331\, E-Mail: a.voss@fvsroesrath.de\n\nKosten / Anmeld
 ung:\n12 Euro inkl. Imbiss und Liturgieheft.\nUm Anmeldung wird gebeten be
 i Andrea Monschau\, Tel: 0221 / 1642-1545\, E-Mail: info@kfd-koeln.de
LOCATION:IN VIA\, Stolzestr. 1a\, 50674 Köln
GEO:50.925185;6.939712
X-APPLE-STRUCTURED-LOCATION;VALUE=URI;X-ADDRESS=Stolzestr. 1a\, Köln\, 506
 74\, Frauenorganisation\, Deutschland;X-APPLE-RADIUS=100;X-TITLE=IN VIA:ge
 o:50.925185,6.939712
END:VEVENT
BEGIN:VTIMEZONE
TZID:Europe/Berlin
X-LIC-LOCATION:Europe/Berlin
BEGIN:STANDARD
DTSTART:20231029T020000
TZOFFSETFROM:+0200
TZOFFSETTO:+0100
TZNAME:CET
END:STANDARD
END:VTIMEZONE
END:VCALENDAR